BEGIN:VCALENDAR
VERSION:2.0
PRODID:-//ChamberMaster//Event Calendar 2.0//EN
METHOD:PUBLISH
X-PUBLISHED-TTL:P3D
REFRESH-INTERVAL:P3D
CALSCALE:GREGORIAN
BEGIN:VEVENT
DTSTART:20160531T223000Z
DTEND:20160531T233000Z
X-MICROSOFT-CDO-ALLDAYEVENT:FALSE
SUMMARY:Renovo Rendezvous-All About Flatbreads
DESCRIPTION:All About Flatbreads Come sample our Smokehouse Flatbread and stay for a drink!
X-ALT-DESC;FMTTYPE=text/html:All About Flatbreads Come sample our Smokehouse Flatbread and stay for a drink!
LOCATION:Hotel Renovo 11167 Hickman Rd
UID:e.1185.4805
SEQUENCE:3
DTSTAMP:20260420T183046Z
URL:http://getaquote-mobile.uniquelyurbandale.com/events/details/renovo-rendezvous-all-about-flatbreads-05-31-2016-4805
END:VEVENT

END:VCALENDAR
