BEGIN:VCALENDAR
VERSION:2.0
PRODID:-//ChamberMaster//Event Calendar 2.0//EN
METHOD:PUBLISH
X-PUBLISHED-TTL:P3D
REFRESH-INTERVAL:P3D
CALSCALE:GREGORIAN
BEGIN:VEVENT
DTSTART:20160628T223000Z
DTEND:20160628T233000Z
X-MICROSOFT-CDO-ALLDAYEVENT:FALSE
SUMMARY:Renovo Patio Party w/Fox Brewing
DESCRIPTION:Patio Party We are having a Renovo patio party with local craft beer from Fox Brewing! Come play some bocce ball and see what our Chefs are cooking up on the grill.
X-ALT-DESC;FMTTYPE=text/html:Patio Party We are having a Renovo patio party with local craft beer from Fox Brewing! Come play some bocce ball and see what our Chefs are cooking up on the grill.
LOCATION:Hotel Renovo 11167 Hickman Rd
UID:e.1185.4821
SEQUENCE:3
DTSTAMP:20260420T212605Z
URL:http://getaquote-mobile.uniquelyurbandale.com/events/details/renovo-patio-party-w-fox-brewing-06-28-2016-4821
END:VEVENT

END:VCALENDAR
