BEGIN:VCALENDAR
VERSION:2.0
PRODID:-//ChamberMaster//Event Calendar 2.0//EN
METHOD:PUBLISH
X-PUBLISHED-TTL:P3D
REFRESH-INTERVAL:P3D
CALSCALE:GREGORIAN
BEGIN:VEVENT
DTSTART:20170606T223000Z
DTEND:20170606T233000Z
X-MICROSOFT-CDO-ALLDAYEVENT:FALSE
SUMMARY:Renovo Patio Party Kick-Off!
DESCRIPTION:Renovo Patio Party Kick-Off! Celebrate the warm weather with an evening of bocce ball! Food and drink specials will be available at the bar.
X-ALT-DESC;FMTTYPE=text/html:Renovo Patio Party Kick-Off! Celebrate the warm weather with an evening of bocce ball! Food and drink specials will be available at the bar.
LOCATION:Hotel Renovo 11167 Hickman Rd
UID:e.1185.6557
SEQUENCE:3
DTSTAMP:20260421T132630Z
URL:http://getaquote-mobile.uniquelyurbandale.com/events/details/renovo-patio-party-kick-off-6557
END:VEVENT

END:VCALENDAR
