BEGIN:VCALENDAR
VERSION:2.0
PRODID:-//ChamberMaster//Event Calendar 2.0//EN
METHOD:PUBLISH
X-PUBLISHED-TTL:P3D
REFRESH-INTERVAL:P3D
CALSCALE:GREGORIAN
BEGIN:VEVENT
DTSTART:20151110T170000Z
DTEND:20151110T190000Z
X-MICROSOFT-CDO-ALLDAYEVENT:FALSE
SUMMARY:Regional Luncheon\, Hosted by Waukee Chamber
DESCRIPTION:The Waukee Area Chamber of Commerce Invites you to a Regional Luncheon in Waukee\n\n \n\nTuesday\, November 10\, 2015\n\n11:00 a.m. to 1:00 p.m.\n\nThe Village at Legacy Pointe \n\n 1650 Holiday Crest Circle\n\n$25/person\n\n\n\nThe Waukee Area Chamber of Commerce is hosting a regional luncheon on November 10th in Waukee. The event will feature a special presentation by Natalie Masri\, senior director of special projects at the U.S. Chamber of Commerce Foundation Center for Women in Business (CWB)\, a program dedicated to advancing women in business. The regional luncheon is open to all members of the Greater Des Moines Partnership and Affiliate Chambers of Commerce. Attendees will learn about women's advancement in the workforce and a panel discussion will follow with local women business leaders\, discussing their own careers and tips for success.\n\n\n\nPlease reserve your seat by November 1st at www.waukeechamber.com.\n\n\n\nPanelists include:\n\nKatie Patterson\, Owner/ Founder of Happy Medium\n\nConnie Wimer\, Owner and Chairman of Business Publications Corporation\n\nKatie Roth\, Owner of Portico Staffing\n\nKim Augspurger\, President & Owner of Saxton\n\nJeni Betts\, Owner of Fresh Mediterranean Express\n\nNatalie Masri\, Senior Director of Special Projects at U.S. Chamber of Commerce Foundation\, CWB
X-ALT-DESC;FMTTYPE=text/html:The Waukee Area Chamber of Commerce Invites you to a Regional Luncheon in Waukee<br />\n&#8203\;<br />\nTuesday\, November 10\, 2015<br />\n11:00 a.m. to 1:00 p.m.<br />\n<span style="line-height: 18.9091px\;">The Village at Legacy Pointe&nbsp\;</span><br style="line-height: 18.9091px\;" />\n<span style="line-height: 18.9091px\;">&#8203\;</span><span style="line-height: 18.9091px\;">1650 Holiday Crest Circle<br />\n$25/person</span><br />\n<br />\nThe Waukee Area Chamber of Commerce is hosting a regional luncheon on November 10th in Waukee. The event will feature a special presentation by Natalie Masri\, senior director of special projects at the U.S. Chamber of Commerce Foundation Center for Women in Business (CWB)\, a program dedicated to advancing women in business. The regional luncheon is open to all members of the Greater Des Moines Partnership and Affiliate Chambers of Commerce. Attendees will learn about women&#39\;s advancement in the workforce and a panel discussion will follow with local women business leaders\, discussing their own careers and tips for success.<br />\n<br />\nPlease reserve your seat by November 1st at www.waukeechamber.com.<br />\n<br />\nPanelists include:<br />\n<span style="line-height: 18.9091px\;">Katie Patterson\, Owner/ Founder of Happy Medium</span><br style="line-height: 18.9091px\;" />\n<span style="line-height: 18.9091px\;">Connie&nbsp\;</span>Wimer<span style="line-height: 18.9091px\;">\, Owner and Chairman of Business Publications Corporation</span><br style="line-height: 18.9091px\;" />\n<span style="line-height: 18.9091px\;">Katie Roth\, Owner of Portico Staffing</span><br style="line-height: 18.9091px\;" />\n<span style="line-height: 18.9091px\;">Kim&nbsp\;</span>Augspurger<span style="line-height: 18.9091px\;">\, President &amp\; Owner of&nbsp\;</span>Saxton<br style="line-height: 18.9091px\;" />\nJeni<span style="line-height: 18.9091px\;">&nbsp\;Betts\, Owner of Fresh Mediterranean Express</span><br style="line-height: 18.9091px\;" />\n<span style="line-height: 18.9091px\;">Natalie&nbsp\;</span>Masri<span style="line-height: 18.9091px\;">\, Senior Director of Special Projects at U.S. Chamber of Commerce Foundation\, CWB</span>
LOCATION:The Village at Legacy Pointe 1650 Holiday Crest Circle
UID:e.1185.4257
SEQUENCE:3
DTSTAMP:20260420T100821Z
URL:http://getaquote-mobile.uniquelyurbandale.com/events/details/regional-luncheon-hosted-by-waukee-chamber-11-10-2015-4257
END:VEVENT

END:VCALENDAR
