BEGIN:VCALENDAR
VERSION:2.0
PRODID:-//ChamberMaster//Event Calendar 2.0//EN
METHOD:PUBLISH
X-PUBLISHED-TTL:P3D
REFRESH-INTERVAL:P3D
CALSCALE:GREGORIAN
BEGIN:VEVENT
DTSTART:20140417T220000Z
DTEND:20140418T000000Z
X-MICROSOFT-CDO-ALLDAYEVENT:FALSE
SUMMARY:Regional Business After Hours\, Hosted by Preowned Solutions
DESCRIPTION:Join the Urbandale Chamber of Commerce as we host all our Affiliate Chamber members at this month's Regional Business After Hours.  Anyone that is a member of our affiliate Chambers around the Metro are welcome to attend.\n\nLocation: Preowned Solutions (11010 Douglas Ave.\, Urbandale)\n\nTime: 5-7 pm\n\nFood and beverages will be included\, but registration is required so our host can accommodate for everyone.  Hope to see you there!
X-ALT-DESC;FMTTYPE=text/html:Join the Urbandale Chamber of Commerce as we host all our Affiliate Chamber members at this month&#39\;s Regional Business After Hours. &nbsp\;Anyone that is a member of our affiliate Chambers around the Metro are welcome to attend.<br />\nLocation: Preowned Solutions (11010 Douglas Ave.\, Urbandale)<br />\nTime: 5-7 pm<br />\nFood and beverages will be included\, but registration is required so our host can accommodate&nbsp\;for everyone. &nbsp\;Hope to see you there!
LOCATION:Preowned Solutions (11010 Douglas Ave.\, Urbandale))
UID:e.1185.3894
SEQUENCE:3
DTSTAMP:20260419T193026Z
URL:http://getaquote-mobile.uniquelyurbandale.com/events/details/regional-business-after-hours-hosted-by-preowned-solutions-04-17-2014-3894
END:VEVENT

END:VCALENDAR
