BEGIN:VCALENDAR
VERSION:2.0
PRODID:-//ChamberMaster//Event Calendar 2.0//EN
METHOD:PUBLISH
X-PUBLISHED-TTL:P3D
REFRESH-INTERVAL:P3D
CALSCALE:GREGORIAN
BEGIN:VEVENT
DTSTART:20140717T220000Z
DTEND:20140718T000000Z
X-MICROSOFT-CDO-ALLDAYEVENT:FALSE
SUMMARY:Regional Business After Hours\, Hosted by Norwalk Chamber
DESCRIPTION:All Chamber Members are invited to join the Norwalk Chamber for this month's Regional Business After Hours at the Echo Valley Country Club.\n\n \n\n	\n		\n			Location:\n			Echo Valley Country Club\, 3150 Echo Valley Drive\, Norwalk\, IA 50211\n		\n		\n			Time:\n			Thursday\, July 17\, 2014 5:00 PM - 7:00 PM
X-ALT-DESC;FMTTYPE=text/html:<span style="color: rgb(119\, 119\, 119)\; font-family: RobotoCondensed\, Arial\, sans-serif\; font-size: 14px\; line-height: 18px\; background-color: rgb(254\, 254\, 254)\;">All Chamber Members are invited to join the Norwalk Chamber for this month&#39\;s Regional Business After Hours at the Echo Valley Country Club.</span><br />\n&nbsp\;\n<table border="0" cellpadding="3" cellspacing="1" style="color: rgb(119\, 119\, 119)\; font-family: RobotoCondensed\, Arial\, sans-serif\; font-size: 14px\; line-height: 18px\; margin-bottom: 10px\; background-color: rgb(254\, 254\, 254)\;" width="100%">\n	<tbody>\n		<tr valign="top">\n			<td class="oddrow" nowrap="nowrap" style="vertical-align: top\; padding-right: 10px\; background-color: rgb(250\, 247\, 250)\;"><strong>Location:</strong></td>\n			<td class="oddrow" style="vertical-align: top\; background-color: rgb(250\, 247\, 250)\;" width="100%">Echo Valley Country Club\, 3150 Echo Valley Drive\, Norwalk\, IA 50211</td>\n		</tr>\n		<tr valign="top">\n			<td class="oddrow" nowrap="nowrap" style="vertical-align: top\; padding-right: 10px\; background-color: rgb(250\, 247\, 250)\;"><strong>Time:</strong></td>\n			<td class="oddrow" style="vertical-align: top\; background-color: rgb(250\, 247\, 250)\;" width="100%">Thursday\, July 17\, 2014 5:00 PM - 7:00 PM</td>\n		</tr>\n	</tbody>\n</table>\n
LOCATION:
UID:e.1185.3921
SEQUENCE:3
DTSTAMP:20260419T142123Z
URL:http://getaquote-mobile.uniquelyurbandale.com/events/details/regional-business-after-hours-hosted-by-norwalk-chamber-07-17-2014-3921
END:VEVENT

END:VCALENDAR
