BEGIN:VCALENDAR
VERSION:2.0
PRODID:-//ChamberMaster//Event Calendar 2.0//EN
METHOD:PUBLISH
X-PUBLISHED-TTL:P3D
REFRESH-INTERVAL:P3D
CALSCALE:GREGORIAN
BEGIN:VEVENT
DTSTART:20150618T220000Z
DTEND:20150619T000000Z
X-MICROSOFT-CDO-ALLDAYEVENT:FALSE
SUMMARY:Regional Business After Hours\, Hosted by Johnston Chamber
DESCRIPTION:Johnston Green Days/Regional Business After Hours\n\nDate: June 18\, 2015\n\nTime: 5:00-7:00 pm\n\nEvent Description:\n\nAll metro area Chamber members are invited to a Regional Business After Hours!!\n\nJohnston Green Days 7th Annual Rib Tasting\, presented by Veridian Credit Union!\n\nLocation: Johnston Green Days (Outside Event\, Casual Attire Encouraged)\n\n6700 Merle Hay Rd. (Johnston Commons\, Next to the Library)\n\nREGISTER  by e-mailing Heather Goodwin at heather@johnstonchamber.com\n\nany questions please call the Johnston Chamber at 276-9064.
X-ALT-DESC;FMTTYPE=text/html:<h2 style="color: rgb(95\, 155\, 143)\; font-family: 'Trebuchet MS'\, 'Lucida Grande'\, 'Lucida Sans Unicode'\, 'Lucida Sans'\, Tahoma\, sans-serif\; font-size: 20px\; line-height: 21px\; margin: 0px 0px 8px\; background-color: rgb(254\, 254\, 254)\;"><font color="#ff0000" face="arial\, sans-serif" style="font-size: 11px\; line-height: normal\;"><span style="font-size: 18px\;"><b>Johnston Green Days/Regional Business After Hours</b></span></font><br style="color: rgb(0\, 0\, 0)\; font-family: Arial\, Helvetica\, 'MS Sans Serif'\, sans-serif\; font-size: 11px\; line-height: 18.9090900421143px\;" />\n<strong style="color: rgb(0\, 0\, 0)\; font-family: Arial\, Helvetica\, 'MS Sans Serif'\, sans-serif\; font-size: 11px\; line-height: 18.9090900421143px\;"><span style="border: 1pt none windowtext\; padding: 0in\;"><span style="font-family: inherit\;"><span style="font-size: 12.5pt\;">Date:</span></span></span></strong><span style="color: rgb(0\, 0\, 0)\; font-family: inherit\; font-size: 11px\; line-height: 18.9090900421143px\;"><span style="font-size: 12pt\;">&nbsp\;<span style="border: 1pt none windowtext\; padding: 0in\;">June 18\, 2015</span></span></span><br style="color: rgb(0\, 0\, 0)\; font-family: Arial\, Helvetica\, 'MS Sans Serif'\, sans-serif\; font-size: 11px\; line-height: 18.9090900421143px\;" />\n<strong style="color: rgb(0\, 0\, 0)\; font-family: Arial\, Helvetica\, 'MS Sans Serif'\, sans-serif\; font-size: 11px\; line-height: 18.9090900421143px\;"><span style="border: 1pt none windowtext\; padding: 0in\;"><span style="font-family: inherit\;"><span style="font-size: 12.5pt\;">Time:</span></span></span></strong><span style="color: rgb(0\, 0\, 0)\; font-family: inherit\; font-size: 11px\; line-height: 18.9090900421143px\;"><span style="font-size: 12pt\;">&nbsp\;<span style="border: 1pt none windowtext\; padding: 0in\;">5:00-7:00 pm</span></span></span><br style="color: rgb(0\, 0\, 0)\; font-family: Arial\, Helvetica\, 'MS Sans Serif'\, sans-serif\; font-size: 11px\; line-height: 18.9090900421143px\;" />\n<strong style="color: rgb(0\, 0\, 0)\; font-family: Arial\, Helvetica\, 'MS Sans Serif'\, sans-serif\; font-size: 11px\; line-height: 18.9090900421143px\;"><span style="font-family: inherit\;"><span style="font-size: 12.5pt\;">Event Description:</span></span></strong><br style="color: rgb(0\, 0\, 0)\; font-family: Arial\, Helvetica\, 'MS Sans Serif'\, sans-serif\; font-size: 11px\; line-height: normal\;" />\n<span style="color: rgb(0\, 0\, 0)\; font-family: Arial\, Helvetica\, 'MS Sans Serif'\, sans-serif\; line-height: normal\; font-size: 14px\;">All metro area Chamber members are invited to a&nbsp\;Regional Business After Hours!!<br />\nJohnston Green Days 7th Annual Rib Tasting\,&nbsp\;presented by Veridian Credit Union!<br />\nLocation: Johnston Green Days&nbsp\;(Outside Event\, Casual Attire Encouraged)<br />\n6700 Merle Hay Rd. (Johnston Commons\, Next to the Library)<br />\nREGISTER &nbsp\;by&nbsp\;e-mailing Heather Goodwin at heather@johnstonchamber.com<br />\nany questions please call the Johnston&nbsp\;Chamber at 276-9064.</span></h2>\n
LOCATION:
UID:e.1185.4235
SEQUENCE:3
DTSTAMP:20260420T024438Z
URL:http://getaquote-mobile.uniquelyurbandale.com/events/details/regional-business-after-hours-hosted-by-johnston-chamber-06-18-2015-4235
END:VEVENT

END:VCALENDAR
