BEGIN:VCALENDAR
VERSION:2.0
PRODID:-//ChamberMaster//Event Calendar 2.0//EN
METHOD:PUBLISH
X-PUBLISHED-TTL:P3D
REFRESH-INTERVAL:P3D
CALSCALE:GREGORIAN
BEGIN:VEVENT
DTSTART:20151119T223000Z
DTEND:20151120T010000Z
X-MICROSOFT-CDO-ALLDAYEVENT:FALSE
SUMMARY:Regional Business After Hours\, Hosted by Grimes Chamber/Golden Openings
DESCRIPTION:You are invited to attend the November Regional Business After Hours\, hosted/sponsored by Golden Openings!\n\n\n\nWho: 21 chambers\, their members & several businesses\, employees & networking groups.\n\nWhat: While we will be welcoming guests to Golden Openings newest Iowa office & 2nd warehouse location\; we want to turn the main focus to a cause special to our hearts.\n\nWhy: A Tom Carder and John Stoddard Cancer Center Charity Event\n\nWhen: Thursday\, November 19th   4:30 to 7:00 p.m.\n\nWhere: Golden Openings\, Inc. 2743 99th Street\, Urbandale\, IA 50322\n\nPhone: 1-800-378-3630 or 515-986-2154 / www.goldenopenings.com\n\n\n\n\n\nThe night will be a benefit for the John Stoddard Cancer Center.\n\nAll proceeds from the night will go towards the Care Coordinator Program*.\n\n\n\nThis is in celebration of Tom Carder\, former President and founder of Quality Manufacturing\, who passed from brain cancer\, earlier this year. Tom was pivotal in the creation of the first giant ceremonial scissors that cut which helped launch Golden Openings' growing success\, over 20 years ago!\n\n\n\nLive Music\, Food\, beverages\, beer\, and wine & local vendors\, prizes. Free Screenings/Health Check Ups Info!
X-ALT-DESC;FMTTYPE=text/html:You are invited to attend the November Regional Business After Hours\, hosted/sponsored by Golden Openings!<br />\n<br />\n<strong>Who</strong>: 21 chambers\, their members &amp\; several businesses\, employees &amp\; networking groups.<br />\n<strong>What</strong>: While we will be welcoming guests to Golden Openings newest Iowa office &amp\; 2nd warehouse location\; we want to turn the main focus to a cause special to our hearts.<br />\n<strong>Why</strong>: A Tom Carder and John Stoddard Cancer Center Charity Event<br />\n<strong>When</strong>: Thursday\, November 19th &mdash\; 4:30 to 7:00 p.m.<br />\n<strong>Where</strong>: Golden Openings\, Inc.&mdash\;2743 99th Street\, Urbandale\, IA 50322<br />\n<em>Phone: 1-800-378-3630 or 515-986-2154 / www.goldenopenings.com</em><br />\n<br />\n<br />\nThe night will be a benefit for the John Stoddard Cancer Center.<br />\nAll proceeds from the night will go towards the Care Coordinator Program*.<br />\n<br />\nThis is in celebration of Tom Carder\, former President and founder of Quality Manufacturing\, who passed from brain cancer\, earlier this year. Tom was pivotal in the creation of the first giant ceremonial scissors that cut which helped launch Golden Openings&rsquo\; growing success\, over 20 years ago!<br />\n<br />\nLive Music\, Food\, beverages\, beer\, and wine &amp\; local vendors\, prizes. Free Screenings/Health Check Ups Info!
LOCATION:
UID:e.1185.4251
SEQUENCE:3
DTSTAMP:20260420T101102Z
URL:http://getaquote-mobile.uniquelyurbandale.com/events/details/regional-business-after-hours-hosted-by-grimes-chamber-golden-openings-11-19-2015-4251
END:VEVENT

END:VCALENDAR
