BEGIN:VCALENDAR
VERSION:2.0
PRODID:-//ChamberMaster//Event Calendar 2.0//EN
METHOD:PUBLISH
X-PUBLISHED-TTL:P3D
REFRESH-INTERVAL:P3D
CALSCALE:GREGORIAN
BEGIN:VEVENT
DTSTART:20150527T213000Z
DTEND:20150527T233000Z
X-MICROSOFT-CDO-ALLDAYEVENT:FALSE
SUMMARY:Regional Business After Hours\, Hosted by East/South\, West Side and Downtown Chambers
DESCRIPTION:Riverwalk Rendezvous Under the Canopy - Regional After Hours hosted by Christiani's Catering\n\n \n\nEat\, drink\, and play along the beautiful Riverwalk downtown beneath the summer comfort of the canopy at the Brenton Skating Plaza at the Riverwalk Rendezvous\, a Regional  Business After Hours party hosted by the Des Moines East & South\, West Side\, and Downtown Chambers of Commerce. Food & ambience provided by Christiani?s VIP Catering. Experience the Riverwalk among the vibrancy of a chic Downtown after work\, have a few drinks\, and network among hundreds of metro-area attendees from 21 Chambers of Commerce! (Registration is through the DSM East & South Chamber website ? select ?Not a Member? to register. This event is Free & open to anyone to attend.)\n\n\n\nRegister Here
X-ALT-DESC;FMTTYPE=text/html:<span style="color: rgb(0\, 0\, 0)\; font-family: Arial\, Helvetica\, sans-serif\; font-size: 14px\; line-height: 18.2000007629395px\;">Riverwalk Rendezvous Under the Canopy - Regional After Hours hosted by Christiani's Catering<br>\n&#8203\;<br>\nEat\, drink\, and play along the beautiful Riverwalk downtown beneath the summer comfort of the canopy at the Brenton Skating Plaza at the Riverwalk Rendezvous\, a Regional&nbsp\; Business After Hours party hosted by the Des Moines East &amp\; South\, West Side\, and Downtown Chambers of Commerce. Food &amp\; ambience provided by Christiani?s VIP Catering. Experience the Riverwalk among the vibrancy of a chic Downtown after work\, have a few drinks\, and network among hundreds of metro-area attendees from 21 Chambers of Commerce!&nbsp\;</span><span style="margin: 0px\; padding: 0px\; border: none\; border-image-source: none\; border-image-slice: 100% 1 0\; border-image-repeat: stretch\; outline: invert none medium\; font-size: 14px\; bottom: auto\; box-sizing: content-box\; clear: none\; color: rgb(0\, 0\, 0)\; content: normal\; direction: inherit\; empty-cells: show\; font-family: Arial\, Helvetica\, sans-serif\; font-style: inherit\; font-stretch: inherit\; left: auto\; line-height: 18.2000007629395px\; max-height: none\; max-width: none\; min-height: initial\; min-width: initial\; opacity: 1\; outline-offset: 0px\; overflow: visible\; position: static\; resize: none\; right: auto\; table-layout: auto\; text-overflow: clip\; top: auto\; vertical-align: baseline\; visibility: inherit\; word-break: inherit\; word-wrap: inherit\; z-index: auto\; border-collapse: separate\; border-radius: 0px\; height: auto\; width: auto\; box-shadow: none\; background-image: none\; background-attachment: initial\; background-size: initial\; background-origin: initial\; background-clip: initial\; background-position: initial\; background-repeat: initial\;">(Registration is through the DSM East &amp\; South Chamber website ? select ?Not a Member? to register. This event is Free &amp\; open to anyone to attend.)</span><br>\n<br>\nRegister <a href="https://secure2.chambermaster.com/directory/jsp/events/dlg/Public_AddReg.jsp?ccid=1614&amp\;eventid=2220">Here</a>
LOCATION:Brenton Skating Plaza 520 Robert D. Ray Dr. Des Moines\, Iowa 50309
UID:e.1185.4226
SEQUENCE:3
DTSTAMP:20260420T024610Z
URL:http://getaquote-mobile.uniquelyurbandale.com/events/details/regional-business-after-hours-hosted-by-east-south-west-side-and-downtown-chambers-05-27-2015-4226
END:VEVENT

END:VCALENDAR
