BEGIN:VCALENDAR
VERSION:2.0
PRODID:-//ChamberMaster//Event Calendar 2.0//EN
METHOD:PUBLISH
X-PUBLISHED-TTL:P3D
REFRESH-INTERVAL:P3D
CALSCALE:GREGORIAN
BEGIN:VEVENT
DTSTART:20150917T220000Z
DTEND:20150918T000000Z
X-MICROSOFT-CDO-ALLDAYEVENT:FALSE
SUMMARY:Regional Business After Hours\, Hosted by Clive Chamber
DESCRIPTION:All metro area Chamber members are invited to a Regional Business After Hours hosted by Country Inn & Suites and Big Green Umbrella.\n\nThursday\, September 17\, 2015 5:00 PM   7:00 PM\n\nCountry Inn & Suites\, 1350 NW 118th Street\, Clive\, IA\n\nNo charge for members to attend\, but RSVP's are requested to accommodate for food and beverages.\n\nClick Here to RSVP.
X-ALT-DESC;FMTTYPE=text/html:<p style="line-height: 20px\; color: rgb(77\, 77\, 77)\; font-family: Arial\, Helvetica\, sans-serif\; font-size: 14px\;">All metro area Chamber members are invited to a Regional Business After Hours hosted by Country Inn &amp\; Suites and Big Green Umbrella.</p>\n\n<p style="line-height: 20px\; color: rgb(77\, 77\, 77)\; font-family: Arial\, Helvetica\, sans-serif\; font-size: 14px\;">Thursday\, September 17\, 2015 5:00 PM &ndash\; 7:00 PM</p>\n\n<p style="line-height: 20px\; color: rgb(77\, 77\, 77)\; font-family: Arial\, Helvetica\, sans-serif\; font-size: 14px\;">Country Inn &amp\; Suites\, 1350 NW 118th Street\, Clive\, IA</p>\n\n<p style="line-height: 20px\; color: rgb(77\, 77\, 77)\; font-family: Arial\, Helvetica\, sans-serif\; font-size: 14px\;">No charge for members to attend\, but RSVP&rsquo\;s are requested to accommodate for food and beverages.</p>\n\n<p style="line-height: 20px\; color: rgb(77\, 77\, 77)\; font-family: Arial\, Helvetica\, sans-serif\; font-size: 14px\;"><a href="https://www.clivechamber.org/info-sponorships-events/event-sponsorship-2/" title="Event RSVP &amp\; Sponsorship Opportunities">Click Her</a>e&nbsp\;to RSVP.</p>\n
LOCATION:
UID:e.1185.4245
SEQUENCE:3
DTSTAMP:20260420T070141Z
URL:http://getaquote-mobile.uniquelyurbandale.com/events/details/regional-business-after-hours-hosted-by-clive-chamber-09-17-2015-4245
END:VEVENT

END:VCALENDAR
