BEGIN:VCALENDAR
VERSION:2.0
PRODID:-//ChamberMaster//Event Calendar 2.0//EN
METHOD:PUBLISH
X-PUBLISHED-TTL:P3D
REFRESH-INTERVAL:P3D
CALSCALE:GREGORIAN
BEGIN:VEVENT
DTSTART:20141016T220000Z
DTEND:20141017T000000Z
X-MICROSOFT-CDO-ALLDAYEVENT:FALSE
SUMMARY:Regional Business After Hours\, Hosted by Ankeny Chamber
DESCRIPTION:Location:\n			1101 SE Oralabor Rd\, Ankeny\, IA 50021\n		\n		\n			Time:\n			Thursday\, October 16\, 2014 5:00 PM - 7:00 PM\n		\n	\n\n\nEVENT DESCRIPTION:\n\n \n\n Regional BAH will be held at Karl Chevrolet in Ankeny\, 1101 SE Oralabor Rd. All affiliate Chamber members are invited to attend. Come enjoy some networking with fellow chamber members from around the metro area. Great complementary food & beverages served while you gain a chance to network with others and enter into a drawing for a $50 prepaid card. We hope to see you there!
X-ALT-DESC;FMTTYPE=text/html:<table border="0" cellpadding="3" cellspacing="1" style="color: rgb(119\, 119\, 119)\; font-family: RobotoCondensed\, Arial\, sans-serif\; font-size: 14px\; line-height: 18px\; margin-bottom: 10px\; background-color: rgb(254\, 254\, 254)\;" width="100%">\n	<tbody>\n		<tr valign="top">\n			<td class="oddrow" nowrap="nowrap" style="vertical-align: top\; font-size: 14px\; padding-right: 10px\; background-color: rgb(250\, 247\, 250)\;"><strong>Location:</strong></td>\n			<td class="oddrow" style="vertical-align: top\; font-size: 14px\; background-color: rgb(250\, 247\, 250)\;" width="100%">1101 SE Oralabor Rd\, Ankeny\, IA 50021</td>\n		</tr>\n		<tr valign="top">\n			<td class="oddrow" nowrap="nowrap" style="vertical-align: top\; font-size: 14px\; padding-right: 10px\; background-color: rgb(250\, 247\, 250)\;"><strong>Time:</strong></td>\n			<td class="oddrow" style="vertical-align: top\; font-size: 14px\; background-color: rgb(250\, 247\, 250)\;" width="100%"><span style="color: rgb(119\, 119\, 119)\; font-family: RobotoCondensed\, Arial\, sans-serif\; font-size: 14px\; line-height: 18px\; background-color: rgb(250\, 247\, 250)\;">Thursday\, October 16\, 2014 5:00 PM - 7:00 PM</span></td>\n		</tr>\n	</tbody>\n</table>\n\n<h3 style="color: rgb(248\, 152\, 56)\; font-family: 'Trebuchet MS'\, 'Lucida Grande'\, 'Lucida Sans Unicode'\, 'Lucida Sans'\, Tahoma\, sans-serif\; font-size: 17px\; font-weight: bold\; line-height: 18px\; margin: 0px 0px 15px\; text-transform: uppercase\; background-color: rgb(254\, 254\, 254)\;">EVENT DESCRIPTION:</h3>\n\n<p style="color: rgb(119\, 119\, 119)\; font-size: 14px\; line-height: 18px\; margin: 0px 0px 18px\; font-family: RobotoCondensed\, Arial\, sans-serif\; background-color: rgb(254\, 254\, 254)\;">&nbsp\;</p>\n\n<p style="color: rgb(119\, 119\, 119)\; font-size: 14px\; line-height: 18px\; margin: 0px 0px 18px\; font-family: RobotoCondensed\, Arial\, sans-serif\; background-color: rgb(254\, 254\, 254)\;">&nbsp\;Regional BAH will be held at Karl Chevrolet in Ankeny\, 1101 SE Oralabor Rd. All affiliate Chamber members are invited to attend. Come enjoy some networking with fellow chamber members from around the metro area. Great complementary food &amp\; beverages served while you gain a chance to network with others and enter into a drawing for a $50 prepaid card. We hope to see you there!</p>\n
LOCATION:1101 SE Oralabor Rd\, Ankeny\, IA 50021
UID:e.1185.3939
SEQUENCE:3
DTSTAMP:20260419T165151Z
URL:http://getaquote-mobile.uniquelyurbandale.com/events/details/regional-business-after-hours-hosted-by-ankeny-chamber-10-16-2014-3939
END:VEVENT

END:VCALENDAR
