BEGIN:VCALENDAR
VERSION:2.0
PRODID:-//ChamberMaster//Event Calendar 2.0//EN
METHOD:PUBLISH
X-PUBLISHED-TTL:P3D
REFRESH-INTERVAL:P3D
CALSCALE:GREGORIAN
BEGIN:VEVENT
DTSTART:20151015T220000Z
DTEND:20151016T000000Z
X-MICROSOFT-CDO-ALLDAYEVENT:FALSE
SUMMARY:Regional Business After Hours\, Hosted by Ankeny Chamber
DESCRIPTION:This month\, the Ankeny Chamber is hosting the Regional event.  All members of any of the Affiliate Chambers are welcome and encouraged to attend this event.\n\n\n\nOctober 15th from 5-7 pm\n\nKarl Chevrolet (1101 SE Oralabor Road\, Ankeny)\n\nCarl Moyer and the entire Karl Chevrolet family invite you to attend our Regional Business After Hours on Thursday\, October 15th. . Join us in the main showroom from 5-7 pm for networking\, door prizes\, hors d'oeuvres and beverages.
X-ALT-DESC;FMTTYPE=text/html:This month\, the Ankeny Chamber is hosting the Regional event. &nbsp\;All members of any of the Affiliate Chambers are welcome and encouraged to attend this event.<br />\n<br />\n<span style="line-height: 18.9091px\;">October 15th from 5-7 pm</span><br />\nKarl Chevrolet (1101 SE Oralabor Road\, Ankeny)<br />\nCarl Moyer and the entire Karl Chevrolet family invite you to attend our Regional Business After Hours on Thursday\, October 15th. . Join us in the main showroom from 5-7 pm for networking\, door prizes\, hors d&#39\;oeuvres and beverages.&nbsp\;
LOCATION:Karl Chevrolet (1101 SE Oralabor Road\, Ankeny)
UID:e.1185.4255
SEQUENCE:3
DTSTAMP:20260420T084353Z
URL:http://getaquote-mobile.uniquelyurbandale.com/events/details/regional-business-after-hours-hosted-by-ankeny-chamber-10-15-2015-4255
END:VEVENT

END:VCALENDAR
