BEGIN:VCALENDAR
VERSION:2.0
PRODID:-//ChamberMaster//Event Calendar 2.0//EN
METHOD:PUBLISH
X-PUBLISHED-TTL:P3D
REFRESH-INTERVAL:P3D
CALSCALE:GREGORIAN
BEGIN:VEVENT
DTSTART:20140515T220000Z
DTEND:20140516T000000Z
X-MICROSOFT-CDO-ALLDAYEVENT:FALSE
SUMMARY:Regional Business After Hours\, Hosted by Allegra Marketing\, Print\, Mail
DESCRIPTION:Join the Urbandale Chamber of Commerce and Allegra Marketing\, Print\, Mail as we host all our Affiliate Chamber members at this month's Regional Business After Hours.  Anyone that is a member of our affiliate Chambers around the Metro are welcome to attend.\n\nLocation: Allegra Marketing\, Print\, Mail (4149 120th St.\, Urbandale)\n\nTime: 5-7 pm\n\nDon't miss all the fun including Bingo\, prizes\, appetizers\, drinks and a special live performance from Monkey Monkey Monkey!!\n\nRegistration is required so our host can accommodate for everyone.  Hope to see you there!
X-ALT-DESC;FMTTYPE=text/html:<span style="font-family: Arial\; font-size: 11.818181991577148px\; line-height: 17.454545974731445px\;">Join the&nbsp\;</span>Urbandale<span style="font-family: Arial\; font-size: 11.818181991577148px\; line-height: 17.454545974731445px\;">&nbsp\;Chamber of Commerce and Allegra Marketing\, Print\, Mail as we host all our Affiliate Chamber members at this month&#39\;s Regional Business After Hours. &nbsp\;Anyone that is a member of our affiliate Chambers around the Metro are welcome to attend.</span><br style="font-family: Arial\; font-size: 11.818181991577148px\; line-height: 17.454545974731445px\;" />\n<span style="font-family: Arial\; font-size: 11.818181991577148px\; line-height: 17.454545974731445px\;">Location: Allegra Marketing\, Print\, Mail (4149&nbsp\;</span>120th<span style="font-family: Arial\; font-size: 11.818181991577148px\; line-height: 17.454545974731445px\;">&nbsp\;St.\,&nbsp\;</span>Urbandale<span style="font-family: Arial\; font-size: 11.818181991577148px\; line-height: 17.454545974731445px\;">)</span><br style="font-family: Arial\; font-size: 11.818181991577148px\; line-height: 17.454545974731445px\;" />\n<span style="font-family: Arial\; font-size: 11.818181991577148px\; line-height: 17.454545974731445px\;">Time: 5-7 pm</span><br style="font-family: Arial\; font-size: 11.818181991577148px\; line-height: 17.454545974731445px\;" />\n<strong style="font-family: Arial\; font-size: 11.818181991577148px\; line-height: 17.454545974731445px\;">Don&#39\;t miss all the fun including Bingo\, prizes\, appetizers\, drinks and a special live performance from Monkey Monkey Monkey!!</strong><br style="font-family: Arial\; font-size: 11.818181991577148px\; line-height: 17.454545974731445px\;" />\n<span style="font-family: Arial\; font-size: 11.818181991577148px\; line-height: 17.454545974731445px\;">Registration is required so our host can accommodate&nbsp\;for everyone. &nbsp\;Hope to see you there!</span>
LOCATION:Allegra Marketing\, Print\, Mail (4149 120th St.\, Urbandale)
UID:e.1185.3776
SEQUENCE:3
DTSTAMP:20260419T175907Z
URL:http://getaquote-mobile.uniquelyurbandale.com/events/details/regional-business-after-hours-hosted-by-allegra-marketing-print-mail-05-15-2014-3776
END:VEVENT

END:VCALENDAR
