BEGIN:VCALENDAR
VERSION:2.0
PRODID:-//ChamberMaster//Event Calendar 2.0//EN
METHOD:PUBLISH
X-PUBLISHED-TTL:P3D
REFRESH-INTERVAL:P3D
CALSCALE:GREGORIAN
BEGIN:VEVENT
DTSTART:20140417T140000Z
DTEND:20140417T150000Z
X-MICROSOFT-CDO-ALLDAYEVENT:FALSE
SUMMARY:Proposed new DART bus route in Urbandale informational meeting
DESCRIPTION:DART is proposing a new bus route through Urbandale.  This informational session is available to learn more about the proposed route and provide feedback before the route is presented to the DART Commission.
X-ALT-DESC;FMTTYPE=text/html:DART is proposing a new bus route through Urbandale. &nbsp\;This informational session is available to learn more about the proposed route and provide feedback before the route is presented to the DART Commission.
LOCATION:Urbandale Chamber of Commerce 2830 100th St.\, Ste. 110 Urbandale\, IA 50322
UID:e.1185.3903
SEQUENCE:3
DTSTAMP:20260419T180002Z
URL:http://getaquote-mobile.uniquelyurbandale.com/events/details/proposed-new-dart-bus-route-in-urbandale-informational-meeting-04-17-2014-3903
END:VEVENT

END:VCALENDAR
