BEGIN:VCALENDAR
VERSION:2.0
PRODID:-//ChamberMaster//Event Calendar 2.0//EN
METHOD:PUBLISH
X-PUBLISHED-TTL:P3D
REFRESH-INTERVAL:P3D
CALSCALE:GREGORIAN
BEGIN:VEVENT
DTSTART:20170408T130000Z
DTEND:20170408T210000Z
X-MICROSOFT-CDO-ALLDAYEVENT:FALSE
SUMMARY:Princess Day at La' James International College Des Moines
DESCRIPTION:Help us make a Difference! Throughout the month of April & May La' James International College Des Moines will be hosting fun & exciting events in honor of LJIC Massage Therapy Graduate\, Sara Preston who is fighting Hodgkin's Lymphoma. All proceeds from each event will go towards Sara & her 3 beautiful little girls. \n\n\n\nJoin us on April 8th {8am-4pm} for Princess Day! Creating fun memories while giving back to a great cause! Receive Hair\, Make-up & Hand/Feet Polish for only $10! Again\, all proceeds will be given to Sara Preston. \n\n\n\nTo book your appointment\, simply call us at 888.880.2108 & press 2 for our Guest Services. Reserve a spot for your little princess today! \n\n\n\nIf you can't make it in\, please consider donating online at https://www.gofundme.com/fight-hodgkins-lymphoma
X-ALT-DESC;FMTTYPE=text/html:<span style="color:rgb(75\, 79\, 86)\; font-family:helvetica neue\,helvetica\,arial\,sans-serif\; font-size:14.40000057220459px">Help us make a Difference! Throughout the month of April &amp\; May&nbsp\;</span><a href="https://www.facebook.com/LaJamesInternationalCollegeDesMoines/" style="color: rgb(54\, 88\, 153)\; cursor: pointer\; text-decoration: none\; font-family: 'Helvetica Neue'\, Helvetica\, Arial\, sans-serif\; font-size: 14.40000057220459px\;">La&#39\; James International College Des Moines</a><span style="color:rgb(75\, 79\, 86)\; font-family:helvetica neue\,helvetica\,arial\,sans-serif\; font-size:14.40000057220459px">&nbsp\;will be hosting fun &amp\; exciting events in honor of LJIC Massage Therapy Graduate\, Sara Preston who is fighting Hodgkin&#39\;s Lymphoma. All proceeds from each event will go towards Sara &amp\; her 3 beautiful little girls.&nbsp\;</span><br />\n<br />\n<span style="color:rgb(75\, 79\, 86)\; font-family:helvetica neue\,helvetica\,arial\,sans-serif\; font-size:14.40000057220459px">Join us on April 8th {8am-4pm} for Princess Day! Creating fun memories while giving back to a great cause! Receive Hair\, Make-up &amp\; Hand/Feet Polish for only $10! Again\, all proceeds will be given to Sara Preston.&nbsp\;</span><br />\n<br />\n<span style="color:rgb(75\, 79\, 86)\; font-family:helvetica neue\,helvetica\,arial\,sans-serif\; font-size:14.40000057220459px">To book your appointment\, simply call us at 888.880.2108 &amp\; press 2 for our Guest Services. Reserve a spot for your little princess today!&nbsp\;</span><br />\n<br />\n<span style="color:rgb(75\, 79\, 86)\; font-family:helvetica neue\,helvetica\,arial\,sans-serif\; font-size:14.40000057220459px">If you can&#39\;t make it in\, please consider donating online at&nbsp\;</span><a href="https://www.gofundme.com/fight-hodgkins-lymphoma" rel="nofollow nofollow" style="color: rgb(54\, 88\, 153)\; cursor: pointer\; text-decoration: none\; font-family: 'Helvetica Neue'\, Helvetica\, Arial\, sans-serif\; font-size: 14.40000057220459px\;" target="_blank"><span style="font-family:inherit">https://www.gofundme.com/</span>fight-hodgkins-lymphoma</a>
LOCATION:La' James International College 8805 Chambery Blvd. Johnston\, IA
UID:e.1185.5168
SEQUENCE:3
DTSTAMP:20260421T104101Z
URL:http://getaquote-mobile.uniquelyurbandale.com/events/details/princess-day-at-la-james-international-college-des-moines-5168
END:VEVENT

END:VCALENDAR
