BEGIN:VCALENDAR
VERSION:2.0
PRODID:-//ChamberMaster//Event Calendar 2.0//EN
METHOD:PUBLISH
X-PUBLISHED-TTL:P3D
REFRESH-INTERVAL:P3D
CALSCALE:GREGORIAN
BEGIN:VEVENT
DTSTART:20160526T164500Z
DTEND:20160526T174500Z
X-MICROSOFT-CDO-ALLDAYEVENT:FALSE
SUMMARY:Powerful Benefits to Protect Families& Businesses
DESCRIPTION:IS IT POSSIBLE?  YES!\n\nJoin us for a luncheon to learn how.\n\nIf you're a decision maker (HR director\, business owner\, voluntary benefits seller\, etc.) please join us to learn more about LegalShield's business-to-business products and how they can benefit your business and employees.
X-ALT-DESC;FMTTYPE=text/html:<span style="font-size:18px">IS IT POSSIBLE? &nbsp\;<strong>YES!<br />\n<span style="font-size:12px"><span style="font-size:16px">Join us for a luncheon to learn how.<br />\n<span style="font-size:12px">If you&#39\;re a decision maker (HR director\, business owner\, voluntary benefits seller\, etc.) please join us to learn more about LegalShield&#39\;s business-to-business products and how they can benefit your business and employees.</span></span></span></strong></span>
LOCATION:Trostel's Greenbriar Restaurant\, 5810 Merle Hay Road\, Johnston\, IA 50131
UID:e.1185.4802
SEQUENCE:3
DTSTAMP:20260420T195954Z
URL:http://getaquote-mobile.uniquelyurbandale.com/events/details/powerful-benefits-to-protect-families-businesses-05-26-2016-4802
END:VEVENT

END:VCALENDAR
