BEGIN:VCALENDAR
VERSION:2.0
PRODID:-//ChamberMaster//Event Calendar 2.0//EN
METHOD:PUBLISH
X-PUBLISHED-TTL:P3D
REFRESH-INTERVAL:P3D
CALSCALE:GREGORIAN
BEGIN:VEVENT
DTSTART:20200323T210000Z
DTEND:20200323T220000Z
X-MICROSOFT-CDO-ALLDAYEVENT:FALSE
SUMMARY:POSTPONED to May 26 - Connect @ 4
DESCRIPTION:Due to COVID-19 concerns\, Connect @ 4 at Compass Financial Services will be rescheduled to May 26. \n\n\n\nSimilar to the AM Exchange only we are CONNECTING in the afternoon. The popular\, loosely-structured networking event attracts people from an assortment of businesses. Programming is designed to strengthen old relationships and build new friendships. Join us for a  structured networking social that will take place on Mondays from 4:00 to 5:00 pm at different Chamber Member locations. Attendees will register and split into small groups and answer business-related questions to get to know each other and build relationships. The March 23rd Connect @ 4 is hosted by Compass Financial.
X-ALT-DESC;FMTTYPE=text/html:<div font-size:="" text-align:="" trebuchet=""><strong><span style="font-size:13.5pt\;mso-fareast-font-family:\nCalibri\;mso-fareast-theme-font:minor-latin\;mso-ansi-language:EN-US\;mso-fareast-language:\nEN-US\;mso-bidi-language:AR-SA">Due to COVID-19 concerns\, Connect @ 4 at Compass Financial Services will be rescheduled&nbsp\;to May 26.&nbsp\;</span></strong><br />\n<br />\nSimilar to the AM Exchange only we are CONNECTING in the afternoon. The popular\, loosely-structured networking event attracts people from an assortment of businesses. Programming is designed to strengthen old relationships and build new friendships.&nbsp\;<span background-color:="" font-size:="" trebuchet="">Join us for a&nbsp\; structured networking social that will take place on Mondays from 4:00 to 5:00 pm at different Chamber Member locations. Attendees will register and split into small groups and answer business-related questions to get to know each other and build relationships. The</span><span style="color: rgb(102\, 51\, 153)\;"><span background-color:="" font-size:="" trebuchet="">&nbsp\;<b>March 23rd Connect @ 4 is hosted by Compass Financial.&nbsp\;</b></span></span></div>\n&nbsp\;\n\n<div style="text-align: center\;">&nbsp\;</div>\n
LOCATION:Compass Financial Services 4801 Westown Parkway West Des Moines\, IA
UID:e.1185.10462
SEQUENCE:3
DTSTAMP:20260423T174624Z
URL:http://getaquote-mobile.uniquelyurbandale.com/events/details/postponed-to-may-26-connect-4-10462
END:VEVENT

END:VCALENDAR
