BEGIN:VCALENDAR
VERSION:2.0
PRODID:-//ChamberMaster//Event Calendar 2.0//EN
METHOD:PUBLISH
X-PUBLISHED-TTL:P3D
REFRESH-INTERVAL:P3D
CALSCALE:GREGORIAN
BEGIN:VEVENT
DTSTART:20200401T210000Z
DTEND:20200401T223000Z
X-MICROSOFT-CDO-ALLDAYEVENT:FALSE
SUMMARY:POSTPONED - Ribbon Cutting - Edencrest at Beaverdale
DESCRIPTION:Edencrest in Beaverdale has postponed their ribbon cutting event until further notice. Please remove this event on April 1 from your calendar. \n\n\n\nThank you. \n\n\n\nJoin the West Side Chamber and the Urbandale Chamber for a Ribbon Cutting at Edencrest in Beaverdale as they celebrate the completion of their new wing.  Open house and networking from 4:00-5:30 PM with a Ribbon Cutting Ceremony at 4:30 PM.  Come see why Edencrest in Beaverdale was voted "Best Senior Living Community" by Cityview Magazine for the past 3 years!
X-ALT-DESC;FMTTYPE=text/html:<p>Edencrest in Beaverdale has postponed their ribbon cutting event until further notice. <u>Please remove this event on April 1 from your calendar.&nbsp\;</u><br />\n<br />\nThank you.&nbsp\;<br />\n<br />\nJoin the West Side Chamber and the Urbandale Chamber for a Ribbon Cutting at Edencrest in Beaverdale as they celebrate the completion of their new wing.&nbsp\; Open house and networking from 4:00-5:30 PM with a Ribbon Cutting Ceremony at 4:30 PM.&nbsp\; Come see why Edencrest in Beaverdale was voted &quot\;Best Senior Living Community&quot\; by Cityview Magazine for the past 3 years!</p>\n
LOCATION:Edencrest at Beaverdale
UID:e.1185.10857
SEQUENCE:3
DTSTAMP:20260423T185727Z
URL:http://getaquote-mobile.uniquelyurbandale.com/events/details/postponed-ribbon-cutting-edencrest-at-beaverdale-10857
END:VEVENT

END:VCALENDAR
