BEGIN:VCALENDAR
VERSION:2.0
PRODID:-//ChamberMaster//Event Calendar 2.0//EN
METHOD:PUBLISH
X-PUBLISHED-TTL:P3D
REFRESH-INTERVAL:P3D
CALSCALE:GREGORIAN
BEGIN:VEVENT
DTSTART:20200416T210000Z
DTEND:20200416T220000Z
X-MICROSOFT-CDO-ALLDAYEVENT:FALSE
SUMMARY:POSTPONED - Ribbon Cutting - Bennigan's has remodeled
DESCRIPTION:Due to COVID-19 concerns\, the Bennigan's Remodeling Ribbon Cutting has been postponed. \n\n\n\nBennigan's has finished the REMODEL and is excited to share it with YOU!\n\nJoin us as we celebrate the FRESH new look of our old friend\, Bennigan's!
X-ALT-DESC;FMTTYPE=text/html:<strong><span style="font-size:16px\;">Due to COVID-19 concerns\, the Bennigan&#39\;s Remodeling Ribbon Cutting has been postponed.&nbsp\;</span></strong><br />\n<br />\nBennigan&#39\;s has finished the REMODEL and is excited to share it with YOU!<br />\nJoin us as we celebrate the FRESH new look of our old friend\, Bennigan&#39\;s!
LOCATION:4800 Merle Hay Road Urbandale
UID:e.1185.10835
SEQUENCE:3
DTSTAMP:20260423T185727Z
URL:http://getaquote-mobile.uniquelyurbandale.com/events/details/postponed-ribbon-cutting-bennigan-s-has-remodeled-10835
END:VEVENT

END:VCALENDAR
