BEGIN:VCALENDAR
VERSION:2.0
PRODID:-//ChamberMaster//Event Calendar 2.0//EN
METHOD:PUBLISH
X-PUBLISHED-TTL:P3D
REFRESH-INTERVAL:P3D
CALSCALE:GREGORIAN
BEGIN:VEVENT
DTSTART:20200326T220000Z
DTEND:20200326T230000Z
X-MICROSOFT-CDO-ALLDAYEVENT:FALSE
SUMMARY:POSTPONED - Ribbon Cutting - Be Well Chiropractic
DESCRIPTION:Due to COVID-19 concerns\, the Ribbon Cutting for Be Well Chiropractic will be postponed to April 30th. \n\n\n\nRIBBON CUTTING - Help us celebrate the opening of Be Well Chiropractic!
X-ALT-DESC;FMTTYPE=text/html:<strong><span style="font-size:13.5pt\;">Due to COVID-19 concerns\, the Ribbon Cutting for Be Well Chiropractic will be postponed to April 30th.&nbsp\;</span></strong><br />\n<br />\nRIBBON CUTTING - Help us celebrate the opening of Be Well Chiropractic!<br />\n&nbsp\;
LOCATION:9400 Plum Drive Suite 140 Urbandale
UID:e.1185.10834
SEQUENCE:3
DTSTAMP:20260423T174631Z
URL:http://getaquote-mobile.uniquelyurbandale.com/events/details/postponed-ribbon-cutting-be-well-chiropractic-10834
END:VEVENT

END:VCALENDAR
