BEGIN:VCALENDAR
VERSION:2.0
PRODID:-//ChamberMaster//Event Calendar 2.0//EN
METHOD:PUBLISH
X-PUBLISHED-TTL:P3D
REFRESH-INTERVAL:P3D
CALSCALE:GREGORIAN
BEGIN:VEVENT
DTSTART:20200604T220000Z
DTEND:20200605T000000Z
X-MICROSOFT-CDO-ALLDAYEVENT:FALSE
SUMMARY:POSTPONED - Ribbon Cutting - Be Well Chiropractic
DESCRIPTION:Due to social distancing limitations during the COVID-19 pandemic\, the Ribbon Cutting event celebrating Be Well Chiropractic will be postponed. \n\n\n\nHelp us celebrate the opening of Be Well Chiropractic! Be Well Chiropractic's mission is to provide safe\, effective\, and gentle chiropractic care for the whole family. Join us as we welcome Be Well Chiropractic to Urbandale and celebrate the opening of their business!
X-ALT-DESC;FMTTYPE=text/html:<span style="font-size:14px\;"><b>Due to social distancing limitations during the COVID-19 pandemic\, the Ribbon Cutting event celebrating Be Well Chiropractic will be postponed.&nbsp\;</b></span><br />\n<br />\nHelp us celebrate the opening of <a href="http://businesses.uniquelyurbandale.com/list/member/be-well-chiropractic-6009">Be Well Chiropractic</a>! Be Well Chiropractic&#39\;s mission is to provide safe\, effective\, and gentle chiropractic care for the whole family. Join us as we welcome Be Well Chiropractic to Urbandale and celebrate the opening of their business!&nbsp\;
LOCATION:Be Well Chiropractic
UID:e.1185.10889
SEQUENCE:3
DTSTAMP:20260423T215334Z
URL:http://getaquote-mobile.uniquelyurbandale.com/events/details/postponed-ribbon-cutting-be-well-chiropractic-06-04-2020-10889
END:VEVENT

END:VCALENDAR
