BEGIN:VCALENDAR
VERSION:2.0
PRODID:-//ChamberMaster//Event Calendar 2.0//EN
METHOD:PUBLISH
X-PUBLISHED-TTL:P3D
REFRESH-INTERVAL:P3D
CALSCALE:GREGORIAN
BEGIN:VEVENT
DTSTART:20200416T123000Z
DTEND:20200416T150000Z
X-MICROSOFT-CDO-ALLDAYEVENT:FALSE
SUMMARY:POSTPONED - Mentoring Morning for Women Presented by University of Iowa Health Care
DESCRIPTION:Due to COVID-19 concerns\, Mentoring Morning for Women presented by University of Iowa Health Care will be postponed. \n\n\n\nLooking for a MENTOR?  You could find one or more at Mentoring For Women.\n\n\n\nJoin the Grimes\, Johnston\, and Urbandale Chamber as we come together on April 16 for networking\, coaching and mentoring sessions from the region's most influential business leaders.\n\nThese events are designed for women to find inspiration and guidance on their careers. All events are open to anyone in the Greater Des Moines (DSM) community who would like to network and further their professional development.\n\n\n\nStay tuned for the list of Mentors
X-ALT-DESC;FMTTYPE=text/html:<p style="box-sizing: border-box\; -webkit-tap-highlight-color: transparent\; padding: 0px\; margin: 0px 0px 1.25em\; font-size: 1.25em\; line-height: 1.5\; color: rgb(38\, 38\, 38)\; font-family: Montserrat\, sans-serif\, sans-serif\; background-color: rgb(255\, 255\, 255)\;"><strong>Due to COVID-19 concerns\, Mentoring Morning for Women presented by University of Iowa Health Care will be postponed.&nbsp\;</strong><br />\n<br />\nLooking for a <strong>MENTOR</strong>?&nbsp\; You could find one or more at <em><strong>Mentoring For Women</strong></em>.<br />\n<br />\nJoin the Grimes\, Johnston\, and Urbandale Chamber as we come together on April 16 for networking\, coaching and mentoring sessions from the region&#39\;s most influential business leaders.</p>\n\n<p style="box-sizing: border-box\; -webkit-tap-highlight-color: transparent\; padding: 0px\; margin: 0px 0px 1.25em\; font-size: 1.25em\; line-height: 1.5\; color: rgb(38\, 38\, 38)\; font-family: Montserrat\, sans-serif\, sans-serif\; background-color: rgb(255\, 255\, 255)\;">These events are designed for women to find inspiration and guidance on their careers. All events are open to anyone in the Greater Des Moines (DSM) community who would like to network and further their professional development.<br />\n<br />\nStay tuned for the list of Mentors</p>\n
LOCATION:TBA
UID:e.1185.9987
SEQUENCE:3
DTSTAMP:20260423T185907Z
URL:http://getaquote-mobile.uniquelyurbandale.com/events/details/postponed-mentoring-morning-for-women-presented-by-university-of-iowa-health-care-9987
END:VEVENT

END:VCALENDAR
