BEGIN:VCALENDAR
VERSION:2.0
PRODID:-//ChamberMaster//Event Calendar 2.0//EN
METHOD:PUBLISH
X-PUBLISHED-TTL:P3D
REFRESH-INTERVAL:P3D
CALSCALE:GREGORIAN
BEGIN:VEVENT
DTSTART:20200401T131500Z
DTEND:20200401T143000Z
X-MICROSOFT-CDO-ALLDAYEVENT:FALSE
SUMMARY:POSTPONED - KEY in Des Moines
DESCRIPTION:Due to COVID-19 concerns\, we will be postponing the KEY in Des Moines event scheduled for April 1.\n\n\n\nKEY in Des Moines stands for Keeping Educated Youth in Des Moines.  It is a program connecting employers with area colleges and universities for workforce attraction.  Every other month the group hosts free educational sessions.  KEY in Des Moines is a division of the Urbandale Chamber of Commerce.\n\n\n\nThis month's KEY in Des Moines features inclusivity in hiring practices and the workplace.  \n\n\n\nA Special Thank You to our April sponsor: Upper Iowa University
X-ALT-DESC;FMTTYPE=text/html:<strong><span style="font-size:18px\;">Due to COVID-19 concerns\, we will be postponing the KEY in Des Moines event scheduled for April 1.</span></strong><br />\n<br />\nKEY in Des Moines stands for Keeping Educated Youth in Des Moines. &nbsp\;It is a program connecting employers with area colleges and universities for workforce attraction. &nbsp\;Every other month the group hosts free educational sessions.&nbsp\; KEY in Des Moines is a division of the Urbandale Chamber of Commerce.<br />\n<br />\nThis month&#39\;s KEY in Des Moines features inclusivity in hiring practices and the workplace.&nbsp\;&nbsp\;<br />\n<br />\nA Special Thank You to our April sponsor: Upper Iowa University
LOCATION:DMACC\, Ankeny Campus 2006 South Ankeny Boulevard\, Ankeny\, IA
UID:e.1185.10012
SEQUENCE:3
DTSTAMP:20260423T185438Z
URL:http://getaquote-mobile.uniquelyurbandale.com/events/details/postponed-key-in-des-moines-10012
END:VEVENT

END:VCALENDAR
