BEGIN:VCALENDAR
VERSION:2.0
PRODID:-//ChamberMaster//Event Calendar 2.0//EN
METHOD:PUBLISH
X-PUBLISHED-TTL:P3D
REFRESH-INTERVAL:P3D
CALSCALE:GREGORIAN
BEGIN:VEVENT
DTSTART:20200402T160000Z
DTEND:20200402T170000Z
X-MICROSOFT-CDO-ALLDAYEVENT:FALSE
SUMMARY:POSTPONED - Grand Opening - Humana
DESCRIPTION:GRAND OPENING\n\nHumana
X-ALT-DESC;FMTTYPE=text/html:GRAND OPENING<br />\nHumana
LOCATION:3100 100th Street Urbandale
UID:e.1185.10813
SEQUENCE:3
DTSTAMP:20260423T185815Z
URL:http://getaquote-mobile.uniquelyurbandale.com/events/details/postponed-grand-opening-humana-10813
END:VEVENT

END:VCALENDAR
