BEGIN:VCALENDAR
VERSION:2.0
PRODID:-//ChamberMaster//Event Calendar 2.0//EN
METHOD:PUBLISH
X-PUBLISHED-TTL:P3D
REFRESH-INTERVAL:P3D
CALSCALE:GREGORIAN
BEGIN:VEVENT
DTSTART:20200408T210000Z
DTEND:20200408T220000Z
X-MICROSOFT-CDO-ALLDAYEVENT:FALSE
SUMMARY:POSTPONED - genYPM hosted by Urbandale Eye Care
DESCRIPTION:Due to COVID-19 concerns\, the genYPM event hosted by Urbandale Eye Care will be postponed to July 29. \n\n\n\nIn this structured networking event\, genYP members will be split into small groups and answer business-related questions to get to know each other and start building relationships.  The event will last from 4:00 to 5:00 pm and take place at different venues every month. \nThank you to our 2020 genYP Program Investors!\n\nParty On the Lake\n\nBroker's International\n\nTwo Rivers Bank and Trust
X-ALT-DESC;FMTTYPE=text/html:<span background-color:="" font-size:="" style="color: rgb(51\, 51\, 51)\; font-family: sans-serif\, Arial\, Verdana\, " trebuchet=""><strong><span style="font-size:18px\;">Due to COVID-19 concerns\, the genYPM event hosted by Urbandale Eye Care will be postponed to July 29.</span></strong>&nbsp\;<br />\n<br />\nIn this structured networking event\, genYP members will be split into small groups and answer business-related questions to get to know each other and start building relationships.&nbsp\; The event will last from 4:00 to 5:00 pm and take place at different venues every month.&nbsp\;</span>\n<div style="text-align: center\;"><strong style="font-size: 16px\; text-align: center\;">Thank you to our 2020 genYP Program Investors!<br />\nParty On the Lake<br />\nBroker&#39\;s International<br />\nTwo Rivers Bank and Trust</strong></div>\n
LOCATION:Urbandale Eye Care 7030 Douglas Ave Urbandale\, IA
UID:e.1185.10824
SEQUENCE:3
DTSTAMP:20260423T201755Z
URL:http://getaquote-mobile.uniquelyurbandale.com/events/details/postponed-genypm-hosted-by-urbandale-eye-care-10824
END:VEVENT

END:VCALENDAR
