BEGIN:VCALENDAR
VERSION:2.0
PRODID:-//ChamberMaster//Event Calendar 2.0//EN
METHOD:PUBLISH
X-PUBLISHED-TTL:P3D
REFRESH-INTERVAL:P3D
CALSCALE:GREGORIAN
BEGIN:VEVENT
DTSTART:20200521T133000Z
DTEND:20200521T153000Z
X-MICROSOFT-CDO-ALLDAYEVENT:FALSE
SUMMARY:POSTPONED - genYP CEO Panel\, Presented by Leaf Brother Cigars
DESCRIPTION:Join us this fall for the rescheduled genYP CEO Panel! \n\n\n\nMake connections that count. The CEO Panel is designed to connect Young Professionals with successful and interesting individuals within the Des Moines Region.\n\nThank you to our 2020 genYP Program Investors!\n\nParty On the Lake\n\nBroker's International\n\nTwo Rivers Bank and Trust
X-ALT-DESC;FMTTYPE=text/html:<p class="benefit_box"><span style="font-size:14px\;"><span style="font-family:arial\;"><strong><span style="font-size:18px\;">Join us this fall for the rescheduled genYP CEO Panel!&nbsp\;</span></strong><br />\n<br />\nMake connections that count. The CEO Panel&nbsp\;is designed to connect Young Professionals with successful and interesting individuals within the Des Moines Region.</span></span></p>\n\n<p class="benefit_box" style="text-align: center\;"><strong style="font-size: 16px\; text-align: center\;">Thank you to our 2020 genYP Program Investors!<br />\nParty On the Lake<br />\nBroker&#39\;s International<br />\nTwo Rivers Bank and Trust</strong></p>\n
LOCATION:TBD
UID:e.1185.10837
SEQUENCE:3
DTSTAMP:20260423T201549Z
URL:http://getaquote-mobile.uniquelyurbandale.com/events/details/postponed-genyp-ceo-panel-presented-by-leaf-brother-cigars-10837
END:VEVENT

END:VCALENDAR
