BEGIN:VCALENDAR
VERSION:2.0
PRODID:-//ChamberMaster//Event Calendar 2.0//EN
METHOD:PUBLISH
X-PUBLISHED-TTL:P3D
REFRESH-INTERVAL:P3D
CALSCALE:GREGORIAN
BEGIN:VEVENT
DTSTART:20200331T123000Z
DTEND:20200331T133000Z
X-MICROSOFT-CDO-ALLDAYEVENT:FALSE
SUMMARY:POSTPONED - AM Exchange\, Presented by Superior Printing and Promotions - Susan Bonnicksen & Laura Davis
DESCRIPTION:Due to COVID-19 concerns\, AM Exchange at Merkle Retirement Planning will be postponed. \n\n\n\nPeople do business with those they know\, like and trust.  What better place to start building relationships than our AM Exchanges? Urbandale Chamber of Commerce AM Exchange allows members a strategic networking opportunity to gather and do business in the morning.\n\nAttendees will be divided into groups of 5-7 and will answer three rounds of questions within their groups. This strategic networking event allows members to get to know each other and start developing relationships. The March AM Exchange is hosted by Merkle Retirement Planning
X-ALT-DESC;FMTTYPE=text/html:<p><strong><span style="font-family:arial\,sans-serif\;"><span style="font-size:13.5pt\;">Due to COVID-19 concerns\, AM Exchange at Merkle Retirement Planning will be postponed.&nbsp\;</span></span></strong><br />\n<br />\n<span style="color: rgb(51\, 51\, 51)\; font-family: arial\; font-size: 14px\; background-color: rgb(255\, 255\, 255)\;">People do business with those they know\, like and trust. &nbsp\;What better place to start building relationships than our AM Exchanges?&nbsp\;Urbandale Chamber of Commerce AM Exchange allows members a strategic networking opportunity to gather and do business in the morning.</span></p>\n\n<p><span style="font-size: 14px\;"><span style="font-family: arial\;">Attendees will be divided into groups of 5-7 and will answer three rounds of questions within their groups. This strategic networking event allows members to get to know each other and start developing relationships. The March AM Exchange is hosted by <a href="https://merkleretirementplanning.com/">Merkle Retirement Planning</a></span></span></p>\n
LOCATION:Merkle Retirement Planning 1860 SE Princeton Drive Grimes\, IA 50111
UID:e.1185.10807
SEQUENCE:3
DTSTAMP:20260423T173656Z
URL:http://getaquote-mobile.uniquelyurbandale.com/events/details/postponed-am-exchange-presented-by-superior-printing-and-promotions-susan-bonnicksen-laura-davis-10807
END:VEVENT

END:VCALENDAR
