BEGIN:VCALENDAR
VERSION:2.0
PRODID:-//ChamberMaster//Event Calendar 2.0//EN
METHOD:PUBLISH
X-PUBLISHED-TTL:P3D
REFRESH-INTERVAL:P3D
CALSCALE:GREGORIAN
BEGIN:VEVENT
DTSTART:20211001T134500Z
DTEND:20211001T170000Z
X-MICROSOFT-CDO-ALLDAYEVENT:FALSE
SUMMARY:Pop-Ins
DESCRIPTION:First Friday Pop-ins\n\n\n\nEach month the Urbandale Chamber Connectors "Pop-in" to member businesses and thank them for their membership and learn about the latest news and trends in each member business.\n\n\n\nPop-ins begin at 9:00 am and depart in a caravan fashion from the Chamber office (2830 100th St. Ste. 110\, Urbandale) and end at 1:00 p.m. We ask that you arrive between 8:45-8:55 am to add your business cards into each envelope that we hand businesses when we visit.\n\n\n\nThere are approximately four member business visits per hour\, all geographically located close to one another. We end the day with a group lunch from 12:00 pm   1:00 pm at a member restaurant business\, paying individually. \n\n\n\nConnectors should register to attend these visits online and indicate the timeframe they will be available and if they'll be able to attend lunch in the "comments" box of the registration form. \n\n\n\nPlease contact Denise Day with any questions at (515) 331-6855 or Denise@urbandalechamber.com
X-ALT-DESC;FMTTYPE=text/html:<strong><span style="font-family: arial\, sans-serif\;"><span style="font-size: 13.5pt\;">First Friday Pop-ins</span></span></strong><br />\n<br />\n<span style="font-family: arial\, sans-serif\;"><span style="font-size: 11pt\;">Each month the&nbsp\;Urbandale&nbsp\;Chamber Connectors &ldquo\;Pop-in&rdquo\; to member businesses and thank them for their membership and learn about the latest news and trends in each member business.<br />\n<br />\nPop-ins begin at 9:00 am and depart in a caravan fashion from the Chamber office (2830 100<sup>th</sup>&nbsp\;St. Ste. 110\,&nbsp\;Urbandale) and end at 1:00 p.m.&nbsp\;<em>We ask that you arrive between 8:45-8:55 am to add your business cards into each envelope that we hand businesses when we visit.</em><br />\n<br />\nThere are approximately four member business visits per hour\, all geographically located close to one another. We end the day with a group lunch from 12:00 pm &ndash\; 1:00 pm at a member restaurant business\, paying individually.&nbsp\;<br />\n<br />\nConnectors should register to attend these visits online and indicate the timeframe they will be available and if they&#39\;ll be able to attend lunch in the &ldquo\;comments&rdquo\; box of the registration form.&nbsp\;</span></span><br />\n<br />\n<span style="font-family: arial\, sans-serif\;"><span style="font-size: 11pt\;">Please contact Denise Day with any questions at (515) 331-6855 or&nbsp\;Denise@urbandalechamber.com&nbsp\;</span></span>
LOCATION:October 1\, 2021 - Pop-Ins Schedule ARRIVE at by 8:45 am to add your business cards to the envelope. 9:00 am 10:00 am Champions Recovery Room 2019 Angela Spencer (515) 410-2908 3030 100th Street\, Urbandale Humana 2020 Brittni Mann (515) 400-8464 3100 100th Street\, Urbandale Unite Private Networks 2020 Stephanie DeVault (515) 249-0516 1415 28th St. Ste. 240\, WDM 10:00 am 11:00 am Iowa Digital Newsboards/The Local Lineup 2019 Kevin Wosmansky (515) 865-3366 4150 Westown Pkwy\, WDM Merrill Lynch 2020 Mo Sane (515) 245-8002 7545 Ashworth Rd.\, Ste. 100\, WDM Exemplar Care 2020 Jon Van Der Veer (515) 650-4370 7300 Westown Pkwy\, WDM 11:00 am 12 Noon Premier Vision Clinic 2019 Dr. Jennifer DenHartog (515) 512-1444 12695 University Ave.\, Clive Solace Dental 2020 Bill Skinner (515) 412-4200 14381 Hickman Road\, Urbandale OsteoStrong 2020 Nicole Huntington (515) 630-0481 11801 Hickman Rd\, Ste.200\, Urbandale LUNCH 12 PM - 1 PM Protein House 11801 Hickman Road\, Ste.\, 300\, Urbandale (515) 276-6153
UID:e.1185.12098
SEQUENCE:3
DTSTAMP:20260424T200254Z
URL:http://getaquote-mobile.uniquelyurbandale.com/events/details/pop-ins-12098
END:VEVENT

END:VCALENDAR
