BEGIN:VCALENDAR
VERSION:2.0
PRODID:-//ChamberMaster//Event Calendar 2.0//EN
METHOD:PUBLISH
X-PUBLISHED-TTL:P3D
REFRESH-INTERVAL:P3D
CALSCALE:GREGORIAN
BEGIN:VEVENT
DTSTART:20160618T140000Z
DTEND:20160618T210000Z
X-MICROSOFT-CDO-ALLDAYEVENT:FALSE
SUMMARY:Pioneer Wedding
DESCRIPTION:Visit the 1850 Pioneer Farm for a recreated pioneer wedding! Travel out to the farm in time to meet Living History Farms? June bride as you join the 1850 Farm staff for a wedding celebration\, including a wedding ceremony and cake for the guests! Weddings brought the pioneer community together for traditional foods and fun. Discover the most popular gifts for a pioneer bride\, help in the ?shivaree\,? and play a good-natured\, very noisy prank on the wedding couple. Visitors will become part of the day?s fun\, with ceremonies at 11:00 and 1:30. Be sure to allow enough time to ride the tractor cart over to the west side farm sites. The wedding celebrations will take place at the 1850 Pioneer Farm.
X-ALT-DESC;FMTTYPE=text/html:Visit the 1850 Pioneer Farm for a recreated pioneer wedding! Travel out to the farm in time to meet Living History Farms? June bride as you join the 1850 Farm staff for a wedding celebration\, including a wedding ceremony and cake for the guests! Weddings brought the pioneer community together for traditional foods and fun. Discover the most popular gifts for a pioneer bride\, help in the ?shivaree\,? and play a good-natured\, very noisy prank on the wedding couple. Visitors will become part of the day?s fun\, with ceremonies at 11:00 and 1:30. Be sure to allow enough time to ride the tractor cart over to the west side farm sites. The wedding celebrations will take place at the 1850 Pioneer Farm.
LOCATION:Living History Farms 11121 Hickman Road Urbandale\, IA 50322
UID:e.1185.4696
SEQUENCE:3
DTSTAMP:20260420T195550Z
URL:http://getaquote-mobile.uniquelyurbandale.com/events/details/pioneer-wedding-06-18-2016-4696
END:VEVENT

END:VCALENDAR
