BEGIN:VCALENDAR
VERSION:2.0
PRODID:-//ChamberMaster//Event Calendar 2.0//EN
METHOD:PUBLISH
X-PUBLISHED-TTL:P3D
REFRESH-INTERVAL:P3D
CALSCALE:GREGORIAN
BEGIN:VEVENT
DTSTART:20160917T133000Z
DTEND:20160917T210000Z
X-MICROSOFT-CDO-ALLDAYEVENT:FALSE
SUMMARY:Photography Day
DESCRIPTION:Enjoy a day of photography workshops in Iowa's largest outdoor classroom! Attend classes with local photography experts and test out the newest camera equipment from photography vendors. Amateurs as well as professionals are encouraged to attend. Capture stunning images of our scenic gardens\, grounds and buildings\, and catch the action at a historic baseball game at 1:30pm. All workshops are included with admission price to Living History Farms.
X-ALT-DESC;FMTTYPE=text/html:Enjoy a day of photography workshops in Iowa&#39\;s largest outdoor classroom! Attend classes with local photography experts and test out the newest camera equipment from photography vendors. Amateurs as well as professionals are encouraged to attend. Capture stunning images of our scenic gardens\, grounds and buildings\, and catch the action at a historic baseball game at 1:30pm. All workshops are included with admission price to Living History Farms.
LOCATION:Living History Farms 11121 Hickman Road Urbandale\, IA 50322
UID:e.1185.4709
SEQUENCE:3
DTSTAMP:20260421T003510Z
URL:http://getaquote-mobile.uniquelyurbandale.com/events/details/photography-day-09-17-2016-4709
END:VEVENT

END:VCALENDAR
