BEGIN:VCALENDAR
VERSION:2.0
PRODID:-//ChamberMaster//Event Calendar 2.0//EN
METHOD:PUBLISH
X-PUBLISHED-TTL:P3D
REFRESH-INTERVAL:P3D
CALSCALE:GREGORIAN
BEGIN:VEVENT
DTSTART:20141107T173000Z
DTEND:20141107T190000Z
X-MICROSOFT-CDO-ALLDAYEVENT:FALSE
SUMMARY:Past-President's & Investor's Council\, Presented by Embassy Club West
DESCRIPTION:Invitation only.
X-ALT-DESC;FMTTYPE=text/html:Invitation only.
LOCATION:Embassy Club West
UID:e.1185.3859
SEQUENCE:3
DTSTAMP:20260419T180022Z
URL:http://getaquote-mobile.uniquelyurbandale.com/events/details/past-president-s-investor-s-council-presented-by-embassy-club-west-11-07-2014-3859
END:VEVENT

END:VCALENDAR
