BEGIN:VCALENDAR
VERSION:2.0
PRODID:-//ChamberMaster//Event Calendar 2.0//EN
METHOD:PUBLISH
X-PUBLISHED-TTL:P3D
REFRESH-INTERVAL:P3D
CALSCALE:GREGORIAN
BEGIN:VEVENT
DTSTART:20151015T130000Z
DTEND:20151015T143000Z
X-MICROSOFT-CDO-ALLDAYEVENT:FALSE
SUMMARY:Past-Chair's & Investor's Council\, Presented by Embassy Club West
DESCRIPTION:Invitation only.\n\n\n\nThank you to our Presenting Sponsor:  Embassy Club West
X-ALT-DESC;FMTTYPE=text/html:Invitation only.<br />\n<br />\nThank you to our Presenting Sponsor: &nbsp\;Embassy Club West
LOCATION:Embassy Club West 520 Market Street\, West Des Moines
UID:e.1185.4118
SEQUENCE:3
DTSTAMP:20260420T101249Z
URL:http://getaquote-mobile.uniquelyurbandale.com/events/details/past-chair-s-investor-s-council-presented-by-embassy-club-west-10-15-2015-4118
END:VEVENT

END:VCALENDAR
