BEGIN:VCALENDAR
VERSION:2.0
PRODID:-//ChamberMaster//Event Calendar 2.0//EN
METHOD:PUBLISH
X-PUBLISHED-TTL:P3D
REFRESH-INTERVAL:P3D
CALSCALE:GREGORIAN
BEGIN:VEVENT
DTSTART:20161020T163000Z
DTEND:20161020T173000Z
X-MICROSOFT-CDO-ALLDAYEVENT:FALSE
SUMMARY:Partners in Possibilities
DESCRIPTION:You are invited to Mosaic in Central Iowa's only fundraiser of the year! During this free one-hour lunch\, attendees will hear from our executive director\, the mother of someone we've served for 17 years\, and most importantly\, the people we serve themselves. Attendees then will be asked to pledge or give financially\, only if they feel inspired to do so. There is no contribution requirement to attend. You must RSVP in advance to Brittney Ledford: brittney.ledford@mosaicinfo.org or 515.868.0623.
X-ALT-DESC;FMTTYPE=text/html:You are invited to Mosaic in Central Iowa&#39\;s only fundraiser of the year! During this free one-hour lunch\, attendees will hear from our executive director\, the mother of someone we&#39\;ve served for 17 years\, and most importantly\, the people we serve themselves. Attendees then will be asked to pledge or give financially\, only if they&nbsp\;feel inspired to do so. There is no contribution requirement to attend.&nbsp\;You must RSVP in advance to Brittney Ledford: <a href="mailto:brittney.ledford@mosaicinfo.org">brittney.ledford@mosaicinfo.org</a> or 515.868.0623.
LOCATION:NOAH's Event Venue 1805 90th St. West Des Moines\, IA 50266
UID:e.1185.4927
SEQUENCE:3
DTSTAMP:20260421T021408Z
URL:http://getaquote-mobile.uniquelyurbandale.com/events/details/partners-in-possibilities-4927
END:VEVENT

END:VCALENDAR
