BEGIN:VCALENDAR
VERSION:2.0
PRODID:-//ChamberMaster//Event Calendar 2.0//EN
METHOD:PUBLISH
X-PUBLISHED-TTL:P3D
REFRESH-INTERVAL:P3D
CALSCALE:GREGORIAN
BEGIN:VEVENT
DTSTART;VALUE=DATE:20170603
DTEND;VALUE=DATE:20170604
TRANSP:TRANSPARENT
X-MICROSOFT-CDO-ALLDAYEVENT:TRUE
SUMMARY:Parenting Workshop
DESCRIPTION:HRI's Parenting Couples Workshop is designed to guide couples through the emotions of parenting by empowering them with insight into their parenting style\, family dynamics\, and couple relationship
X-ALT-DESC;FMTTYPE=text/html:HRI&rsquo\;s Parenting Couples Workshop is designed to guide couples through the emotions of parenting by empowering them with insight into their parenting style\, family dynamics\, and couple relationship
LOCATION:3219 SW 9th Park Avenue Christian Church - Eric Gissell Youth Center Des Moines\, IA 50315
UID:e.1185.6425
SEQUENCE:3
DTSTAMP:20260421T132135Z
URL:http://getaquote-mobile.uniquelyurbandale.com/events/details/parenting-workshop-6425
END:VEVENT

END:VCALENDAR
