BEGIN:VCALENDAR
VERSION:2.0
PRODID:-//ChamberMaster//Event Calendar 2.0//EN
METHOD:PUBLISH
X-PUBLISHED-TTL:P3D
REFRESH-INTERVAL:P3D
CALSCALE:GREGORIAN
BEGIN:VEVENT
DTSTART:20161007T150000Z
DTEND:20161007T170000Z
X-MICROSOFT-CDO-ALLDAYEVENT:FALSE
SUMMARY:Origami & Kirigami Paper Folding
DESCRIPTION:Learn the traditional art of paper folding in this new series of classes "Origami & Kirigami." Step-by-step we'll use fun and colorful papers to create animals\, decorations and packaging. In this October class\, learn to make festive stars in many sizes. We have many fun and interesting papers\, too. No experience necessary! Instructors: Urbandale residents Ann Koopal and Anne Nieland $5 September 2\, 10:00 a.m. 12:00 noon Pre-registration required by calling 515-278-3907 You can register for these classes on a monthly basis - no need to register for all classes at one time.
X-ALT-DESC;FMTTYPE=text/html:Learn the traditional art of paper folding in this new series of classes &quot\;Origami &amp\; Kirigami.&quot\; Step-by-step we&#39\;ll use fun and colorful papers to create animals\, decorations and packaging. In this October class\, learn to make festive stars in many sizes. We have many fun and interesting papers\, too. No experience necessary! Instructors: Urbandale residents Ann Koopal and Anne Nieland $5 September 2\, 10:00 a.m.&mdash\;12:00 noon Pre-registration required by calling 515-278-3907 You can register for these classes on a monthly basis - no need to register for all classes at one time.
LOCATION:Urbandale Senior Recreation Center 7305 Aurora Ave
UID:e.1185.4924
SEQUENCE:3
DTSTAMP:20260421T034601Z
URL:http://getaquote-mobile.uniquelyurbandale.com/events/details/origami-kirigami-paper-folding-4924
END:VEVENT

END:VCALENDAR
