BEGIN:VCALENDAR
VERSION:2.0
PRODID:-//ChamberMaster//Event Calendar 2.0//EN
METHOD:PUBLISH
X-PUBLISHED-TTL:P3D
REFRESH-INTERVAL:P3D
CALSCALE:GREGORIAN
BEGIN:VEVENT
DTSTART:20160904T210000Z
DTEND:20160904T230000Z
X-MICROSOFT-CDO-ALLDAYEVENT:FALSE
SUMMARY:OKTOBERFEST Tapping Event at Granite City!!
DESCRIPTION:It's that time of year again! With Summer coming to a close and Fall right around the corner\, it's time for our Oktoberfest brew! Come celebrate Labor Day weekend right with our tapping event from 4-6PM Sunday\, September 4th. We'll be marking the occasion with the usual\,  games and giveaways\, but we have a special treat-we will be providing free food (Germanic themed\, of course) to our Mug Club members as a thank you for their continued support. Not a member? That's alright\, come in and we'll get you signed up. Come one\, come all and get this brew while you can because it's our most popular of the year-it's bound to go quick!
X-ALT-DESC;FMTTYPE=text/html:It&#39\;s that time of year again! With Summer coming to a close and Fall right around the corner\, it&#39\;s time for our Oktoberfest brew! Come celebrate Labor Day weekend right with our tapping event from 4-6PM Sunday\, September 4th. We&#39\;ll be marking the occasion with the usual\, &nbsp\;games and giveaways\, but we have a special treat-we will be providing free food (Germanic themed\, of course) to our Mug Club members as a thank you for their continued support. Not a member? That&#39\;s alright\, come in and we&#39\;ll get you signed up. Come one\, come all and get this brew while you can because it&#39\;s our most popular of the year-it&#39\;s bound to go quick!
LOCATION:
UID:e.1185.4895
SEQUENCE:3
DTSTAMP:20260421T003515Z
URL:http://getaquote-mobile.uniquelyurbandale.com/events/details/oktoberfest-tapping-event-at-granite-city-4895
END:VEVENT

END:VCALENDAR
