BEGIN:VCALENDAR
VERSION:2.0
PRODID:-//ChamberMaster//Event Calendar 2.0//EN
METHOD:PUBLISH
X-PUBLISHED-TTL:P3D
REFRESH-INTERVAL:P3D
CALSCALE:GREGORIAN
BEGIN:VEVENT
DTSTART:20160915T223000Z
DTEND:20160916T013000Z
X-MICROSOFT-CDO-ALLDAYEVENT:FALSE
SUMMARY:Night at the Zoo
DESCRIPTION:The Financial Advisors of the West Des Moines Office of Waddell & Reed have reserved the entire Blank Park Zoo to host a private event for you\, your family\, and friends.  Please join us to view the exotic animals and wonderful park attractions.  Food and drink will be provided by Johnny's Italian Steakhouse.  The event will be outside\, so make sure to dress for the weather.  Please include your guests' names when you RSVP.\n\n\n\n(Note: No formal program will take place.  The event is purely social.)
X-ALT-DESC;FMTTYPE=text/html:The Financial Advisors of the West Des Moines Office of Waddell &amp\; Reed have reserved the entire Blank Park Zoo to host a private event for you\, your family\, and friends.&nbsp\; Please join us to view the exotic animals and wonderful park attractions.&nbsp\; Food and drink will be provided by Johnny&#39\;s Italian Steakhouse.&nbsp\; The event will be outside\, so make sure to dress for the weather.&nbsp\; Please include your guests&#39\; names when you RSVP.<br />\n<br />\n(Note: No formal program will take place.&nbsp\; The event is purely social.)
LOCATION:Blank Park Zoo 7401 SW 9th Street Des Moines\, Iowa
UID:e.1185.4900
SEQUENCE:3
DTSTAMP:20260421T003331Z
URL:http://getaquote-mobile.uniquelyurbandale.com/events/details/night-at-the-zoo-4900
END:VEVENT

END:VCALENDAR
