BEGIN:VCALENDAR
VERSION:2.0
PRODID:-//ChamberMaster//Event Calendar 2.0//EN
METHOD:PUBLISH
X-PUBLISHED-TTL:P3D
REFRESH-INTERVAL:P3D
CALSCALE:GREGORIAN
BEGIN:VEVENT
DTSTART:20190101T020000Z
DTEND:20190101T170000Z
X-MICROSOFT-CDO-ALLDAYEVENT:FALSE
SUMMARY:New Year's Eve at Hotel Renovo Featuring The Nadas!
DESCRIPTION:New Years Eve with The Nadas w/ Dan Tedesco. Ring in the New Year in style! Hotel Renovo is throwing the best party in town! Hotel Package Includes: - 8pm to 10 Pm Free Beer and Wine Social Hour. - Champagne Toast at Midnight. - Hors Oeuvres. - Breakfast Buffet New Years Day with an Acoustic Concert by The Nadas. - Bloody Mary & Mimosa Bar (Breakfast) 2 Drink Ticket Per Guest. - Welcome Bag and Commemorative Hotel Renovo Gift.
X-ALT-DESC;FMTTYPE=text/html:New Years Eve with The Nadas w/ Dan Tedesco. Ring in the New Year in style! Hotel Renovo is throwing the best party in town! Hotel Package Includes: - 8pm to 10 Pm Free Beer and Wine Social Hour. - Champagne Toast at Midnight. - Hors Oeuvres. - Breakfast Buffet New Years Day with an Acoustic Concert by The Nadas. - Bloody Mary &amp\; Mimosa Bar (Breakfast) 2 Drink Ticket Per Guest. - Welcome Bag and Commemorative Hotel Renovo Gift.
LOCATION:Hotel Renovo 11167 Hickman Rd Urbandale-50322
UID:e.1185.8948
SEQUENCE:3
DTSTAMP:20260422T155853Z
URL:http://getaquote-mobile.uniquelyurbandale.com/events/details/new-year-s-eve-at-hotel-renovo-featuring-the-nadas-8948
END:VEVENT

END:VCALENDAR
