BEGIN:VCALENDAR
VERSION:2.0
PRODID:-//ChamberMaster//Event Calendar 2.0//EN
METHOD:PUBLISH
X-PUBLISHED-TTL:P3D
REFRESH-INTERVAL:P3D
CALSCALE:GREGORIAN
BEGIN:VEVENT
DTSTART:20190105T190000Z
DTEND:20190105T210000Z
X-MICROSOFT-CDO-ALLDAYEVENT:FALSE
SUMMARY:New Year and New Healthier YOU!
DESCRIPTION:Let us help you\, to help yourself make healthier choices! We have tools to improve your mental\, physical and spiritual wellness! Learn about wellness modalities\, healthy products and Poly chromatic Light Therapy! Arrive promptly! You don't want to miss out on natural life enhancing information??
X-ALT-DESC;FMTTYPE=text/html:<span style="color:rgb(29\, 33\, 41)\; font-family:helvetica\,arial\,sans-serif\; font-size:14px">Let us help you\, to help yourself make healthier choices! We have tools to improve your mental\, physical and spiritual wellness! Learn about wellness modalities\, healthy products and Poly chromatic Light Therapy! Arrive promptly! You don&rsquo\;t want to miss out on natural life enhancing information??</span>
LOCATION:The Zone of Comfort - Life Balance Center\, LLC 3829 71st Street Suite B - 1 Urbandale\, IA 50322
UID:e.1185.8954
SEQUENCE:3
DTSTAMP:20260422T172755Z
URL:http://getaquote-mobile.uniquelyurbandale.com/events/details/new-year-and-new-healthier-you-8954
END:VEVENT

END:VCALENDAR
