BEGIN:VCALENDAR
VERSION:2.0
PRODID:-//ChamberMaster//Event Calendar 2.0//EN
METHOD:PUBLISH
X-PUBLISHED-TTL:P3D
REFRESH-INTERVAL:P3D
CALSCALE:GREGORIAN
BEGIN:VEVENT
DTSTART:20160721T210000Z
DTEND:20160721T230000Z
X-MICROSOFT-CDO-ALLDAYEVENT:FALSE
SUMMARY:NEW BEER Tapping Event @ Granite City Food & Brewery -- Spanish Cedar Double IPA
DESCRIPTION:We're brewing a specialty batch just for July! Stop by our location between 4 and 6pm to taste our Spanish Cedar Double IPA. With a nice sandalwood aroma and hints of black pepper\, this small batch is sure to go quick. If you're a fan of our Batch 1000 Double IPA\, you're going to love this! We'll be playing games and giving away prizes to celebrate-so stop on by and enjoy a cold one to beat this heat!
X-ALT-DESC;FMTTYPE=text/html:We&#39\;re brewing a specialty batch just for July! Stop by our location between 4 and 6pm to taste our Spanish Cedar Double IPA. With a nice sandalwood aroma and hints of black pepper\, this small batch is sure to go quick. If you&#39\;re a fan of our Batch 1000 Double IPA\, you&#39\;re going to love this! We&#39\;ll be playing games and giving away prizes to celebrate-so stop on by and enjoy a cold one to beat this heat!
LOCATION:Granite City Food & Brewery 12801 University Ave. Clive\, IA
UID:e.1185.4862
SEQUENCE:3
DTSTAMP:20260420T212653Z
URL:http://getaquote-mobile.uniquelyurbandale.com/events/details/new-beer-tapping-event-granite-city-food-brewery-spanish-cedar-double-ipa-07-21-2016-4862
END:VEVENT

END:VCALENDAR
