BEGIN:VCALENDAR
VERSION:2.0
PRODID:-//ChamberMaster//Event Calendar 2.0//EN
METHOD:PUBLISH
X-PUBLISHED-TTL:P3D
REFRESH-INTERVAL:P3D
CALSCALE:GREGORIAN
BEGIN:VEVENT
DTSTART:20200428T133000Z
DTEND:20200428T143000Z
X-MICROSOFT-CDO-ALLDAYEVENT:FALSE
SUMMARY:Network-in-Place - Virtual Networking\, Presented by Superior Printing and Promotions - Susan Bonnicksen & Laura Davis
DESCRIPTION:Working from home? Want to keep networking and connecting with other Chamber members while social distancing? Network with us at our new Network-in-Place! Attendees will join a Zoom meeting and be split into small groups to discuss a variety of networking and business questions.
X-ALT-DESC;FMTTYPE=text/html:<span style="font-size:14px\;">Working from home? Want to keep networking and connecting with other Chamber members while social distancing? Network with us at our new Network-in-Place! Attendees will join a Zoom meeting and be split into small groups to discuss a variety of networking and business questions.</span>
LOCATION:Virtual networking held via Zoom! Link to join the virtual event will be sent to registered attendees. Find instructions on how to join a Zoom meeting.
UID:e.1185.10891
SEQUENCE:3
DTSTAMP:20260423T185727Z
URL:http://getaquote-mobile.uniquelyurbandale.com/events/details/network-in-place-virtual-networking-presented-by-superior-printing-and-promotions-susan-bonnicksen-laura-davis-10891
END:VEVENT

END:VCALENDAR
