BEGIN:VCALENDAR
VERSION:2.0
PRODID:-//ChamberMaster//Event Calendar 2.0//EN
METHOD:PUBLISH
X-PUBLISHED-TTL:P3D
REFRESH-INTERVAL:P3D
CALSCALE:GREGORIAN
BEGIN:VEVENT
DTSTART:20160315T180000Z
DTEND:20160315T210000Z
X-MICROSOFT-CDO-ALLDAYEVENT:FALSE
SUMMARY:National Agriculture Day
DESCRIPTION:Celebrate National Agriculture Day at Living History Farms on March 15. National Ag Day is a day to recognize and celebrate the abundance provided by agriculture. LHF will be celebrating with livestock demonstrations\, tractor displays\, and hands-on activities related to pollinators\, wildflowers and several other topics from agriculture-focused organizations from all over Central Iowa. Selected townsfolk will open their doors for visitors in the town of Walnut Hill. Special Activities: Living History Farms Summer Day Camp - craft and information Native American farming - hands-on station Activities from our community partners: Iowa Honey Producers Association Green Iowa AmeriCorps Iowa Agricultural Literacy Foundation Nutrients For Life Livestock Demonstrations Tractor Displays Open historic sites: General Store\, Implement Dealer Scavenger Hunt for Families
X-ALT-DESC;FMTTYPE=text/html:Celebrate National Agriculture Day at Living History Farms on March 15. National Ag Day is a day to recognize and celebrate the abundance provided by agriculture. LHF will be celebrating with livestock demonstrations\, tractor displays\, and hands-on activities related to pollinators\, wildflowers and several other topics from agriculture-focused organizations from all over Central Iowa. Selected townsfolk will open their doors for visitors in the town of Walnut Hill. Special Activities: Living History Farms Summer Day Camp - craft and information Native American farming - hands-on station Activities from our community partners: Iowa Honey Producers Association Green Iowa AmeriCorps Iowa Agricultural Literacy Foundation Nutrients For Life Livestock Demonstrations Tractor Displays Open historic sites: General Store\, Implement Dealer Scavenger Hunt for Families
LOCATION:Living History Farms 11121 Hickman Road Urbandale\, IA 50322
UID:e.1185.4737
SEQUENCE:3
DTSTAMP:20260420T170117Z
URL:http://getaquote-mobile.uniquelyurbandale.com/events/details/national-agriculture-day-03-15-2016-4737
END:VEVENT

END:VCALENDAR
