BEGIN:VCALENDAR
VERSION:2.0
PRODID:-//ChamberMaster//Event Calendar 2.0//EN
METHOD:PUBLISH
X-PUBLISHED-TTL:P3D
REFRESH-INTERVAL:P3D
CALSCALE:GREGORIAN
BEGIN:VEVENT
DTSTART:20170228T233000Z
DTEND:20170301T003000Z
X-MICROSOFT-CDO-ALLDAYEVENT:FALSE
SUMMARY:Mule & Martini Night Rendezvous
DESCRIPTION:Mule & Martini Night Take $1 off Moscow Mules and Martinis from our drink menu. While you are here enjoy some of our homemade bruschetta.
X-ALT-DESC;FMTTYPE=text/html:Mule &amp\; Martini Night Take $1 off Moscow Mules and Martinis from our drink menu. While you are here enjoy some of our homemade bruschetta.
LOCATION:Hotel Renovo 11167 Hickman Rd-Urbandale
UID:e.1185.5128
SEQUENCE:3
DTSTAMP:20260421T080250Z
URL:http://getaquote-mobile.uniquelyurbandale.com/events/details/mule-martini-night-rendezvous-5128
END:VEVENT

END:VCALENDAR
