BEGIN:VCALENDAR
VERSION:2.0
PRODID:-//ChamberMaster//Event Calendar 2.0//EN
METHOD:PUBLISH
X-PUBLISHED-TTL:P3D
REFRESH-INTERVAL:P3D
CALSCALE:GREGORIAN
BEGIN:VEVENT
DTSTART:20160312T140000Z
DTEND:20160312T160000Z
X-MICROSOFT-CDO-ALLDAYEVENT:FALSE
SUMMARY:MS Moments "Stomp out MS" 5k and Kids 1 mile fun run
DESCRIPTION:Join us for our first MS Moments 5k and kids 1 mile fun run. All proceeds to benefit MS Moments and Central Iowa families living with multiple sclerosis.
X-ALT-DESC;FMTTYPE=text/html:Join us for our first MS Moments 5k and kids 1 mile fun run. All proceeds to benefit MS Moments and Central Iowa families living with multiple sclerosis.
LOCATION:Packet pick up: March 11th at The Beerhouse 5pm-7:30 PM (4810 NW 86th St Urbandale) Race: Walker Johnston Park (9000 Douglas Ave\, Urbandale)
UID:e.1185.4726
SEQUENCE:3
DTSTAMP:20260420T153423Z
URL:http://getaquote-mobile.uniquelyurbandale.com/events/details/ms-moments-stomp-out-ms-5k-and-kids-1-mile-fun-run-03-12-2016-4726
END:VEVENT

END:VCALENDAR
