BEGIN:VCALENDAR
VERSION:2.0
PRODID:-//ChamberMaster//Event Calendar 2.0//EN
METHOD:PUBLISH
X-PUBLISHED-TTL:P3D
REFRESH-INTERVAL:P3D
CALSCALE:GREGORIAN
BEGIN:VEVENT
DTSTART:20170402T000000Z
DTEND:20170402T030000Z
X-MICROSOFT-CDO-ALLDAYEVENT:FALSE
SUMMARY:MS Moments Night at the Iowa Energy
DESCRIPTION:Come join us for MS Moments night at Iowa Energy on April 1st. Ticket and T-shirt proceeds to benefit MS Moments and Central Iowa families living with MS.
X-ALT-DESC;FMTTYPE=text/html:Come join us for MS Moments night at Iowa Energy on April 1st. Ticket and T-shirt proceeds to benefit MS Moments and Central Iowa families living with MS.
LOCATION:Wells Fargo Arena
UID:e.1185.5145
SEQUENCE:3
DTSTAMP:20260421T103925Z
URL:http://getaquote-mobile.uniquelyurbandale.com/events/details/ms-moments-night-at-the-iowa-energy-5145
END:VEVENT

END:VCALENDAR
