BEGIN:VCALENDAR
VERSION:2.0
PRODID:-//ChamberMaster//Event Calendar 2.0//EN
METHOD:PUBLISH
X-PUBLISHED-TTL:P3D
REFRESH-INTERVAL:P3D
CALSCALE:GREGORIAN
BEGIN:VEVENT
DTSTART:20160327T000000Z
DTEND:20160327T030000Z
X-MICROSOFT-CDO-ALLDAYEVENT:FALSE
SUMMARY:MS Moments Night at the Iowa Energy
DESCRIPTION:Come Join us for a Night at the Iowa Energy.\n\nTickets $15 \n\n\n\nPlease contact either Jenn Staack @ jenn.staack@inittocureit.org or any board member at msmoments@inittocureit.org\n\nWe are asking tickets be paid in advance.\nThanks.
X-ALT-DESC;FMTTYPE=text/html:<span style="color:rgb(20\, 24\, 35)\; font-family:helvetica\,arial\,sans-serif\; font-size:14px">Come Join us for a Night at the Iowa Energy.</span><br />\n<span style="color:rgb(20\, 24\, 35)\; font-family:helvetica\,arial\,sans-serif\; font-size:14px">Tickets $15&nbsp\;</span><br />\n<br />\n<span style="color:rgb(20\, 24\, 35)\; font-family:helvetica\,arial\,sans-serif\; font-size:14px">Please</span><span style="font-size:11.0pt"> contact either Jenn Staack @ <a href="mailto:jenn.staack@inittocureit.org" rel="nofollow" target="_blank">jenn.staack@inittocureit.org</a> or any board member at <a href="mailto:msmoments@inittocureit.org" id="yui_3_16_0_1_1455038507513_77448" rel="nofollow" target="_blank">msmoments@inittocureit.org</a></span>\n\n<p>W<span style="color:rgb(20\, 24\, 35)\; font-family:helvetica\,arial\,sans-serif\; font-size:14px">e are asking tickets be paid in advance.</span></p>\n<span style="color:rgb(20\, 24\, 35)\; font-family:helvetica\,arial\,sans-serif\; font-size:14px">Thanks.</span>
LOCATION:Wells Fargo Arena
UID:e.1185.4727
SEQUENCE:3
DTSTAMP:20260420T153632Z
URL:http://getaquote-mobile.uniquelyurbandale.com/events/details/ms-moments-night-at-the-iowa-energy-03-26-2016-4727
END:VEVENT

END:VCALENDAR
