BEGIN:VCALENDAR
VERSION:2.0
PRODID:-//ChamberMaster//Event Calendar 2.0//EN
METHOD:PUBLISH
X-PUBLISHED-TTL:P3D
REFRESH-INTERVAL:P3D
CALSCALE:GREGORIAN
BEGIN:VEVENT
DTSTART:20190105T170000Z
DTEND:20190105T210000Z
X-MICROSOFT-CDO-ALLDAYEVENT:FALSE
SUMMARY:MS Moments 5th Annual Chili Cook-off
DESCRIPTION:https://www.flipcause.com/secure/cause_pdetails/NDYxNjc=?fbclid=IwAR1BSgFeIJ6HTmQ_rC3gHQcPIc_edt8Au6HBTJcA0SwJ13SGL3N9glstHv0 \n\n\n\nJoin us Saturday\, January 5th 2019 @ Doc's Lounge in Johnston\, Iowa for our 5th Annual Chili Cookoff!\n\n\n\nCheck in opens at 10:30 AM with judging starting promptly at 12:00 PM. \n\n\n\nCost is $30 per chili entry (tasting for free if you enter your chili). We will accept day of event registration\; however\, we prefer pre-registration!\n\n\n\nAll you can eat tasting (while supplies last) is $10 per person.\n\n\n\nAll proceeds benefit MS Moments to help support those in Iowa living with MS.\n\nJoin us Saturday\, January 5th 2019 @ Doc's Lounge in Johnston\, Iowa for our 5th Annual Chili Cookoff!\n\n\n\nCheck in opens at 10:30 AM with judging starting promptly at 12:00 PM. \n\n\n\nCost is $30 per chili entry (tasting for free if you enter your chili). We will accept day of event registration\; however\, we prefer pre-registration!\n\n\n\nAll you can eat tasting (while supplies last) is $10 per person.\n\n\n\nAll proceeds benefit MS Moments to help support those in Iowa living with MS.
X-ALT-DESC;FMTTYPE=text/html:<a href="https://www.flipcause.com/secure/cause_pdetails/NDYxNjc=?fbclid=IwAR1BSgFeIJ6HTmQ_rC3gHQcPIc_edt8Au6HBTJcA0SwJ13SGL3N9glstHv0">https://www.flipcause.com/secure/cause_pdetails/NDYxNjc=?fbclid=IwAR1BSgFeIJ6HTmQ_rC3gHQcPIc_edt8Au6HBTJcA0SwJ13SGL3N9glstHv0</a>&nbsp\;<br />\n<br />\n<span style="background-color:transparent\; color:rgb(29\, 33\, 41)\; font-family:helvetica\,arial\,sans-serif\; font-size:14px">Join us Saturday\, January 5th 2019 @ Doc&#39\;s Lounge in Johnston\, Iowa for our 5th Annual Chili Cookoff!</span><br />\n<br />\n<span style="background-color:transparent\; color:rgb(29\, 33\, 41)\; font-family:helvetica\,arial\,sans-serif\; font-size:14px">Check in opens at 10:30 AM with judging starting promptly at 12:00 PM. </span><br />\n<br />\n<span style="background-color:transparent\; color:rgb(29\, 33\, 41)\; font-family:helvetica\,arial\,sans-serif\; font-size:14px">Cost is $30 per chili entry (tasting for free if you enter your chili). We will accept day of event registration\; however\, we prefer pre-registration!</span><br />\n<br />\n<span style="background-color:transparent\; color:rgb(29\, 33\, 41)\; font-family:helvetica\,arial\,sans-serif\; font-size:14px">All you can eat tasting (while supplies last) is $10 per person.</span><br />\n<br />\n<span style="background-color:transparent\; color:rgb(29\, 33\, 41)\; font-family:helvetica\,arial\,sans-serif\; font-size:14px">All proceeds benefit MS Moments to help support those in Iowa living with MS.<br />\nJoin us Saturday\, January 5th 2019 @ Doc&#39\;s Lounge in Johnston\, Iowa for our 5th Annual Chili Cookoff!</span><br />\n<br />\n<span style="background-color:transparent\; color:rgb(29\, 33\, 41)\; font-family:helvetica\,arial\,sans-serif\; font-size:14px">Check in opens at 10:30 AM with judging starting promptly at 12:00 PM. </span><br />\n<br />\n<span style="background-color:transparent\; color:rgb(29\, 33\, 41)\; font-family:helvetica\,arial\,sans-serif\; font-size:14px">Cost is $30 per chili entry (tasting for free if you enter your chili). We will accept day of event registration\; however\, we prefer pre-registration!</span><br />\n<br />\n<span style="background-color:transparent\; color:rgb(29\, 33\, 41)\; font-family:helvetica\,arial\,sans-serif\; font-size:14px">All you can eat tasting (while supplies last) is $10 per person.</span><br />\n<br />\n<span style="background-color:transparent\; color:rgb(29\, 33\, 41)\; font-family:helvetica\,arial\,sans-serif\; font-size:14px">All proceeds benefit MS Moments to help support those in Iowa living with MS.</span>
LOCATION:
UID:e.1185.8955
SEQUENCE:3
DTSTAMP:20260422T185002Z
URL:http://getaquote-mobile.uniquelyurbandale.com/events/details/ms-moments-5th-annual-chili-cook-off-8955
END:VEVENT

END:VCALENDAR
