BEGIN:VCALENDAR
VERSION:2.0
PRODID:-//ChamberMaster//Event Calendar 2.0//EN
METHOD:PUBLISH
X-PUBLISHED-TTL:P3D
REFRESH-INTERVAL:P3D
CALSCALE:GREGORIAN
BEGIN:VEVENT
DTSTART:20150430T130000Z
DTEND:20150430T150000Z
X-MICROSOFT-CDO-ALLDAYEVENT:FALSE
SUMMARY:MOXIE\, Presented by RE/MAX Real Estate Concepts - Wanda Greif
DESCRIPTION:MOXIE (Member Owners eXchange Information & Experience) is a group of member business owners who meet monthly with ActionCoach\, Greg Thompson\, to discuss issues impacting their businesses.  This is exclusive to Business Owners only and is specifically designed for businesses generating up to $100K net revenue annually.\n\n\n\nThis month's topic is stress management. (Who doesn't have a little stress in their lives!).  Spend 30-minutes of the session learning different stress management techniques from Jon Schultz\, owner of Optimum Performance Physical Therapy.  \n\nTime: 8-10 am \n\nLocation: RODAN Board Room\, Urbandale Chamber of Commerce (2830 100th Street\, Ste 100)\n\nCost: Included in membership\, but RSVP's are strongly requested.
X-ALT-DESC;FMTTYPE=text/html:<p>MOXIE&nbsp\;(Member Owners&nbsp\;eXchange&nbsp\;Information &amp\; Experience) is a group of member business owners who meet monthly with ActionCoach<span style="line-height: 18.9090900421143px\;">\, Greg Thompso</span><span style="line-height: 18.9090900421143px\;">n</span>\, to discuss issues impacting their businesses.&nbsp\; This is exclusive to Business Owners only and is specifically designed for businesses generating up to $100K&nbsp\;net revenue annually.<br />\n<br />\nThis month&#39\;s topic is stress management. (Who doesn&#39\;t have a little stress in their lives!). &nbsp\;Spend 30-minutes of the session learning different stress management techniques from Jon Schultz\, owner of Optimum Performance Physical Therapy. &nbsp\;</p>\n\n<p>Time: 8-10 am&nbsp\;<br />\nLocation:&nbsp\;RODAN&nbsp\;Board Room\,&nbsp\;Urbandale&nbsp\;Chamber of Commerce (2830&nbsp\;100th&nbsp\;Street\,&nbsp\;Ste&nbsp\;100)<br />\nCost: Included in membership\, but RSVP&#39\;s are strongly requested.</p>\n
LOCATION:RODAN Board Room\, Urbandale Chamber of Commerce (2830 100th St\, Ste 110)
UID:e.1185.4046
SEQUENCE:3
DTSTAMP:20260420T011856Z
URL:http://getaquote-mobile.uniquelyurbandale.com/events/details/moxie-presented-by-re-max-real-estate-concepts-wanda-greif-04-30-2015-4046
END:VEVENT

END:VCALENDAR
