BEGIN:VCALENDAR
VERSION:2.0
PRODID:-//ChamberMaster//Event Calendar 2.0//EN
METHOD:PUBLISH
X-PUBLISHED-TTL:P3D
REFRESH-INTERVAL:P3D
CALSCALE:GREGORIAN
BEGIN:VEVENT
DTSTART:20141023T130000Z
DTEND:20141023T150000Z
X-MICROSOFT-CDO-ALLDAYEVENT:FALSE
SUMMARY:MOXIE\, Presented by Central Iowa Electronic Cigarettes
DESCRIPTION:MOXIE (Member Owners eXchange Information & Experience) is a group of member business Owners who meet monthly with ActionCoach\, Greg Thompson\, to discuss issues impacting their businesses.  This is exclusive to Business Owners only and is specifically designed for businesses generating up to $100K net revenue annually.\n\nTime: 8-10 am \n\nLocation: Ashland Point Building\, 2900 100th Street\, Urbandale in the 2nd floor conference room.\n\nCost: Included in membership\, but RSVP's are strongly requested.\n\n\n\nThis month's guest speaker is from the Employer's Council of Iowa\, a group of employers who work in partnership with IWD to meet the needs of businesses and provide expert information on issues that effect the business community.
X-ALT-DESC;FMTTYPE=text/html:<p>MOXIE&nbsp\;(Member Owners&nbsp\;eXchange&nbsp\;Information &amp\; Experience) is a group of member business Owners who meet monthly with&nbsp\;ActionCoach\, Greg Thompson\, to discuss issues impacting their businesses.&nbsp\; This is exclusive to Business Owners only and is specifically designed for businesses generating up to $100K&nbsp\;net revenue annually.</p>\n\n<p>Time: 8-10 am&nbsp\;<br />\nLocation:&nbsp\;<span style="font-family: arial\; line-height: 20.7999992370605px\;">Ashland Point Building\, 2900&nbsp\;</span>100th<span style="font-family: arial\; line-height: 20.7999992370605px\;">&nbsp\;Street\,&nbsp\;</span>Urbandale<span style="font-family: arial\; line-height: 20.7999992370605px\;">&nbsp\;in the&nbsp\;</span>2nd<span style="font-family: arial\; line-height: 20.7999992370605px\;">&nbsp\;floor conference room.</span><br />\nCost: Included in membership\, but RSVP&#39\;s are strongly requested.<br />\n<br />\nThis month&#39\;s guest speaker is from the Employer&#39\;s Council of Iowa\, a group of employers who work in partnership with IWD to meet the needs of businesses and provide expert information on issues that effect the business community.</p>\n
LOCATION:LOCATION CHANGE - to the Ashland Point Building\, 2900 100th Street\, Urbandale in the 2nd floor conference room. (This is the 3-story building next to the Chamber office)
UID:e.1185.3725
SEQUENCE:3
DTSTAMP:20260419T152636Z
URL:http://getaquote-mobile.uniquelyurbandale.com/events/details/moxie-presented-by-central-iowa-electronic-cigarettes-10-23-2014-3725
END:VEVENT

END:VCALENDAR
