BEGIN:VCALENDAR
VERSION:2.0
PRODID:-//ChamberMaster//Event Calendar 2.0//EN
METHOD:PUBLISH
X-PUBLISHED-TTL:P3D
REFRESH-INTERVAL:P3D
CALSCALE:GREGORIAN
BEGIN:VEVENT
DTSTART:20140626T130000Z
DTEND:20140626T150000Z
X-MICROSOFT-CDO-ALLDAYEVENT:FALSE
SUMMARY:MOXIE\, Presented by Central Iowa Electronic Cigarettes
DESCRIPTION:MOXIE (Member Owners eXchange Information & Experience) is a group of member business Owners who meet monthly with ActionCoach\, Greg Thompson\, to discuss issues impacting their businesses.  This is exclusive to Business Owners only and is specifically designed for businesses generating up to $100K net revenue annually.\n\n\n\nThis month's features a Law Judge from IWD to discuss Unemployment Law and common errors employers make in unemployment insurance appeals.  \n\nTime: 8-10 am \n\nLocation: RODAN Board Room\, Urbandale Chamber of Commerce (2830 100th Street\, Ste 100)\n\nCost: Included in membership\, but RSVP's are strongly requested.
X-ALT-DESC;FMTTYPE=text/html:<p>MOXIE&nbsp\;(Member Owners&nbsp\;eXchange&nbsp\;Information &amp\; Experience) is a group of member business Owners who meet monthly with&nbsp\;ActionCoach\, Greg Thompson\, to discuss issues impacting their businesses.&nbsp\; This is exclusive to Business Owners only and is specifically designed for businesses generating up to $100K&nbsp\;net revenue annually.<br />\n<br />\nThis month&#39\;s features a Law Judge from IWD to discuss Unemployment Law and common errors employers make in unemployment insurance appeals. &nbsp\;</p>\n\n<p>Time: 8-10 am&nbsp\;<br />\nLocation:&nbsp\;RODAN&nbsp\;Board Room\,&nbsp\;Urbandale&nbsp\;Chamber of Commerce (2830&nbsp\;100th&nbsp\;Street\,&nbsp\;Ste&nbsp\;100)<br />\nCost: Included in membership\, but RSVP&#39\;s are strongly requested.</p>\n
LOCATION:RODAN Board Room\, Urbandale Chamber of Commerce (2830 100th St\, Ste 110)
UID:e.1185.3721
SEQUENCE:3
DTSTAMP:20260419T152758Z
URL:http://getaquote-mobile.uniquelyurbandale.com/events/details/moxie-presented-by-central-iowa-electronic-cigarettes-06-26-2014-3721
END:VEVENT

END:VCALENDAR
